Workbook
Name ew: #REF!
Name ew: #REF!
Name ew: #REF!
Name ew: #REF!
Name ew: #REF!
Name ew: #REF!
Name Excel_BuiltIn__FilterDatabase_2: #REF!
Name Excel_BuiltIn__FilterDatabase_2: #REF!
Name Excel_BuiltIn__FilterDatabase_2: #REF!
Name Excel_BuiltIn__FilterDatabase_2: #REF!
Name Excel_BuiltIn__FilterDatabase_2: #REF!
Name Excel_BuiltIn__FilterDatabase_27: #REF!
Name Excel_BuiltIn__FilterDatabase_27: #REF!
Name Excel_BuiltIn__FilterDatabase_27: #REF!
Name Excel_BuiltIn__FilterDatabase_27: #REF!
Name Excel_BuiltIn__FilterDatabase_27: #REF!
Name Excel_BuiltIn_Print_Titles_1_1: #REF!
Name Excel_BuiltIn_Print_Titles_1_1: #REF!
Name Excel_BuiltIn_Print_Titles_1_1: #REF!
Name Excel_BuiltIn_Print_Titles_1_1: #REF!
Name Excel_BuiltIn_Print_Titles_1_1: noms!$A$1:$EH$1
Name Excel_BuiltIn_Print_Titles_1_1: #REF!
Name test: #REF!

Sheet noms
A1: Nom Prénom | B1: Nouv. No Lic. | C1: HDC | D1: CAT | E1: Club
A2: Aliten Bartolome | B2: 1522 | C2: 12 | D2: HA | E2: Plainpalais
A3: Aries Claudia | B3: 1819 | C3: 32 | D3: DB | E3: Dauphins
A4: Barbezat Francis | B4: 48 | C4: 21 | D4: HB | E4: BC Italia
A5: Barbuscia Isabelle | B5: 1739 | C5: 36 | D5: DB | E5: Hurricanes
A6: Baruh Enis | B6: 2327 | C6: 26 | D6: HC | E6: Plainpalais
A7: Blacas David | B7: 236 | C7: 15 | D7: HB | E7: Hurricanes
A8: Boccalari Jean-Marc | B8: 2804 | C8: 27 | D8: HC | E8: Aprotec
A9: Bourgeois Henri | B9: 111 | C9: 28 | D9: HC | E9: BC Italia
A10: Bravo Mario | B10: 123 | C10: A C | D10: H? | E10: Plattina
A11: Bull Oliver | B11: 132 | C11: 22 | D11: HB | E11: Black-Hawk
A12: Burri Fernand | B12: 1002 | C12: 34 | D12: HC | E12: Jonc'Quilles
A13: Burri Katia | B13: 138 | C13: 36 | D13: DB | E13: Jonc'Quilles
A14: Caldi Jean-Marc | B14: 142 | C14: 19 | D14: HB | E14: Dauphins
A15: Calzavara Bernard | B15: 1474 | C15: 34 | D15: HC | E15: Dauphins
A16: Cardinaux Cédric | B16: 149 | C16: 18 | D16: HB | E16: Les Z'Amis
A17: Cardinaux Pierre-Alain | B17: 151 | C17: 20 | D17: HB | E17: Individuel
A18: Carolino Romulo | B18: 2138 | C18: 22 | D18: HB | E18: Plainpalais
A19: Champagne Marc | B19: 1782 | C19: A C | D19: H? | E19: Rolex Sports
A20: Chappuis Bernard | B20: 1210 | C20: 30 | D20: HC | E20: Dauphins
A21: Chavaz Didier | B21: 2220 | C21: 15 | D21: HB | E21: Plattina
A22: Company Joëlle | B22: 181 | C22: 20 | D22: DA | E22: Hurricanes
A23: Company Lucas | B23: 2792 | C23: 36 | D23: HC | E23: Plainpalais
A24: Corbo Pierre | B24: 189 | C24: 22 | D24: HB | E24: BC Italia
A25: Corminboeuf Pascal | B25: 192 | D25: H? | E25: Les Z'Amis
A26: Da Silva Mario | B26: 2819 | C26: 29 | D26: HC | E26: Aprotec
A27: D'Apice Eladio | B27: 2693 | C27: 23 | D27: HC | E27: Rolex Sports
A28: D'Apice Vincenzo | B28: 210 | C28: 23 | D28: HC | E28: Rolex Sports
A29: Decarli André | B29: 1967 | C29: 49 | D29: HC | E29: Dauphins
A30: Despres Marylène | B30: 2474 | C30: 60 | D30: DB | E30: Swissmaboule
A31: Diaz Lopez José Manuel | B31: 2694 | C31: 30 | D31: HC | E31: Swissmaboule
A32: Dilsuk Linda | B32: 228 | C32: 38 | D32: DB | E32: Hurricanes
A33: Dodah Moonesh | B33: 230 | C33: 19 | D33: HB | E33: Black-Hawk
A34: Dupenloup Franck | B34: 1817 | C34: 0 | D34: H? | E34: Individuel
A35: Faller Neza | B35: 1640 | D35: D? | E35: Individuel
A36: Faller Noraida | B36: 1615 | C36: 36 | D36: DB | E36: Individuel
A37: Favre Jean-Marie | B37: 2635 | C37: 39 | D37: HC | E37: Dauphins
A38: Flores Alfredo | B38: 272 | C38: 40 | D38: HC | E38: Individuel
A39: Flores Merlinda | B39: 1747 | D39: D? | E39: Individuel
A40: Franco Jonani | B40: 2634 | C40: 6 | D40: HA | E40: Plattina
A41: Frei Robert | B41: 280 | C41: 23 | D41: HC | E41: BC Italia
A42: Fuentes Sonia | B42: 2497 | C42: A C | D42: D? | E42: Individuel
A43: Gabriel Eric | B43: 290 | C43: 13 | D43: HB | E43: Plattina
A44: Genillard Ralph-Yves | B44: 302 | C44: 22 | D44: HB | E44: VAUD
A45: Giordano Pasquale | B45: 2831 | C45: 41 | D45: HC | E45: Aprotec
A46: Golay Daniel | B46: 323 | C46: 14 | D46: HA | E46: Black-Hawk
A47: Gomez Domingo | B47: 2265 | C47: 23 | D47: HC | E47: Aprotec
A48: Goy Christophe | B48: 2797 | C48: A C | D48: H? | E48: Swissmaboule
A49: Gratziu Rossano | B49: 333 | D49: H? | E49: Rolex Sports
A50: Grosrey Krystel | B50: 1172 | C50: 34 | D50: DB | E50: Hurricanes
A51: Groux Gilbert | B51: 2632 | C51: 39 | D51: HC | E51: Plainpalais
A52: Guerraz Céline | B52: 2453 | C52: 34 | D52: DB | E52: Swissmaboule
A53: Guex-Crosier Aurélie | B53: 1686 | C53: A C | D53: D? | E53: Plattina
A54: Guyot Christine | B54: 2695 | C54: 41 | D54: DB | E54: Rolex Sports
A55: Guyot Jacques | B55: 356 | C55: 16 | D55: HB | E55: Aprotec
A56: Hubert Isabelle | B56: 2526 | C56: 42 | D56: DB | E56: Dauphins
A57: Hutzli Christian | B57: 407 | C57: 22 | D57: HB | E57: Les Z'Amis
A58: Hutzli Philippe | B58: 408 | C58: 31 | D58: HC | E58: Plainpalais
A59: Ignoto Salvatore | B59: 409 | C59: A C | D59: H? | E59: BC Italia
A60: Karakash Iris | B60: 440 | C60: 19 | D60: DA | E60: Hurricanes
A61: Karrer Jean | B61: 1492 | C61: 36 | D61: HC | E61: Black-Hawk
A62: Karrer Luisita | B62: 1766 | C62: A C | D62: D? | E62: Individuel
A63: Lansaque Jean-Marie | B63: 1459 | C63: A C | D63: H? | E63: Individuel
A64: Le Dû Cédric | B64: 2805 | C64: 23 | D64: HC | E64: Aprotec
A65: Le Scanff Jean-François | B65: 1642 | C65: A C | D65: H? | E65: Hurricanes
A66: Louvrier Ivana | B66: 2223 | C66: 36 | D66: DB | E66: Individuel
A67: Louvrier Jonah | B67: 2398 | C67: A C | D67: H? | E67: Individuel
A68: Louvrier Philippe | B68: 2222 | C68: 27 | D68: HC | E68: Individuel
A69: Lucia Jean-Charles | B69: 2266 | C69: A C | D69: H? | E69: Aprotec
A70: Manco Anthony | B70: 1946 | C70: 26 | D70: HC | E70: Aprotec
A71: Manco Daniel | B71: 522 | C71: 21 | D71: HB | E71: Aprotec
A72: Mancuso Angelo | B72: 2832 | C72: 40 | D72: HC | E72: Aprotec
A73: Martin José | B73: 1301 | C73: 25 | D73: HC | E73: Swissmaboule
A74: Martinez Mary-Claude | B74: 540 | C74: 28 | D74: DA | E74: Plattina
A75: Maulet André | B75: 552 | C75: 27 | D75: HC | E75: Jonc'Quilles
A76: Menoud François | B76: 566 | C76: 22 | D76: HB | E76: Les Z'Amis
A77: Mermoud Alex | B77: 568 | C77: 31 | D77: HC | E77: Plainpalais
A78: Miano Nunziato | B78: 2294 | C78: 22 | D78: HB | E78: Rolex Sports
A79: Monnier Michel | B79: 582 | C79: 43 | D79: HC | E79: Plainpalais
A80: Monti Olivier | B80: 2349 | C80: 41 | D80: HC | E80: Jonc'Quilles
A81: Morales Serrano Eduardo | B81: 1825 | C81: 21 | D81: HB | E81: Plattina
... A84: Moser Roberto | B84: 2500 | C84: 40 | D84: HC | E84: Dauphins
A85: Moulin Bertrand | B85: 2334 | C85: H? | D85: H? | E85: Individuel
A86: Moyat Magali | B86: 1763 | C86: A C | D86: D? | E86: Individuel
A87: Musa Jesper | B87: 1375 | C87: 41 | D87: HC | E87: Plattina
A88: Nicole Roger | B88: 1168 | C88: 36 | D88: HC | E88: Dauphins
A89: Pahud Chinny | B89: 1636 | C89: 40 | D89: DB | E89: Hurricanes
A90: Pakosz Cécile | B90: 633 | C90: 27 | D90: DA | E90: Hurricanes
A91: Paras Marife | B91: 2820 | C91: 50 | D91: DB | E91: Individuel
A92: Pellein Gwendoline | B92: 2631 | C92: 45 | D92: DB | E92: Plattina
A93: Pellein Stéphane | B93: 1377 | C93: 18 | D93: HB | E93: Plattina
A94: Perito Pascal | B94: 656 | C94: 22 | D94: HB | E94: Plainpalais
A95: Ratzé Ernest | B95: 2806 | C95: A C | D95: H? | E95: Individuel
A96: Regenass Cedric | B96: 698 | C96: 10 | D96: HA | E96: VAUD
A97: Rey Maria | B97: 2454 | C97: 60 | D97: DB | E97: Rolex Sports
A98: Roagna Gilles-Eric | B98: 1378 | C98: 31 | D98: HC | E98: Plainpalais
A99: Rodrigues Vanessa | B99: 541 | C99: 20 | D99: DA | E99: Plattina
A100: Ronchi Jacques | B100: 721 | C100: 30 | D100: HC | E100: Les Z'Amis
A101: Rosa Pedro | B101: 2455 | C101: 29 | D101: HC | E101: Swissmaboule
A102: Rosset Franck | B102: 2456 | C102: 18 | D102: HB | E102: Rolex Sports
...

Sheet Controle
A1: Tournoi | B1: (Tous)
B3: Données
A4: Noms | B4: Somme de Quilles | C4: Somme de Parties | D4: Somme de Moyennes
A5: Aries Claudia | B5: 9103 | C5: 58 | D5: 156.94828 | K5: =SUM(H5-J5) -> 0
A6: Baruh Enis | B6: 1369 | C6: 8 | D6: 171.125 | K6: =SUM(H6-J6) -> 0
A7: Bourgeois Henri | B7: 6432 | C7: 38 | D7: 169.26316 | K7: =SUM(H7-J7) -> 0
A8: Bravo Mario | B8: 5426 | C8: 28 | D8: 193.78571 | K8: =SUM(H8-J8) -> 0
A9: Bull Oliver | B9: 1502 | C9: 9 | D9: 166.88889 | K9: =SUM(H9-J9) -> 0
A10: Caldi Jean-Marc | B10: 2113 | C10: 12 | D10: 176.08333 | K10: =SUM(H10-J10) -> 0
A11: Carolino Romulo | B11: 8185 | C11: 50 | D11: 163.7 | K11: =SUM(H11-J11) -> 0
A12: Champagne Marc | B12: 2519 | C12: 15 | D12: 167.93333 | K12: =SUM(H12-J12) -> 0
A13: Chappuis Bernard | B13: 2802 | C13: 18 | D13: 155.66667 | K13: =SUM(H13-J13) -> 0
A14: Chavaz Didier | B14: 8274 | C14: 46 | D14: 179.86957 | K14: =SUM(H14-J14) -> 0
A15: Company Joëlle | B15: 4562 | C15: 26 | D15: 175.46154 | K15: =SUM(H15-J15) -> 0
A16: Corbo Pierre | B16: 8970 | C16: 50 | D16: 179.4 | K16: =SUM(H16-J16) -> 0
... A82: Total général | B82: 244240 | C82: 1439 | D82: 169.72898 | K82: =SUM(H82-J82) -> 0
K83: =SUM(H83-J83) -> 0
K84: =SUM(H84-J84) -> 0
K85: =SUM(H85-J85) -> 0
K86: =SUM(H86-J86) -> 0
K87: =SUM(H87-J87) -> 0
K88: =SUM(H88-J88) -> 0
K89: =SUM(H89-J89) -> 0
K90: =SUM(H90-J90) -> 0
K91: =SUM(H91-J91) -> 0
K92: =SUM(H92-J92) -> 0
K93: =SUM(H93-J93) -> 0
K94: =SUM(H94-J94) -> 0
... K121: =SUM(H121-J121) -> 0

Sheet Compétitions -19-21
A1: No CH | B1: Noms | C1: Quilles | D1: Parties | E1: Moyenne | F1: Lieu | G1: Competition | H1: date | I1: Tournoi
A2: 1819 | B2: Aries Claudia | C2: 1282 | D2: 8 | E2: 160,25 | F2: Vidy | G2: Extérieur | H2: 43883 | I2: 1/2 finales suisse individuels 2020
A3: 2804 | B3: Boccalari Jean-Marc | C3: 1304 | D3: 8 | E3: 163,00 | F3: Vidy | G3: Extérieur | H3: 43883 | I3: 1/2 finales suisse individuels 2020
A4: 323 | B4: Golay Daniel | C4: 2440 | D4: 12 | E4: 203,33 | F4: Echandens | G4: Extérieur | H4: 43883 | I4: 1/2 finales suisse individuels 2020
A5: 2265 | B5: Gomez Domingo | C5: 1486 | D5: 8 | E5: 185,75 | F5: Vidy | G5: Extérieur | H5: 43883 | I5: 1/2 finales suisse individuels 2020
A6: 1172 | B6: Grosrey Krystel | C6: 1281 | D6: 8 | E6: 160,13 | F6: Vidy | G6: Extérieur | H6: 43883 | I6: 1/2 finales suisse individuels 2020
A7: 356 | B7: Guyot Jacques | C7: 2441 | D7: 12 | E7: 203,42 | F7: Echandens | G7: Extérieur | H7: 43883 | I7: 1/2 finales suisse individuels 2020
A8: 407 | B8: Hutzli Christian | C8: 1414 | D8: 8 | E8: 176,75 | F8: Vidy | G8: Extérieur | H8: 43883 | I8: 1/2 finales suisse individuels 2020
A9: 2223 | B9: Louvrier Ivana | C9: 1339 | D9: 8 | E9: 167,38 | F9: Vidy | G9: Extérieur | H9: 43883 | I9: 1/2 finales suisse individuels 2020
A10: 2222 | B10: Louvrier Philippe | C10: 1272 | D10: 8 | E10: 159,00 | F10: Vidy | G10: Extérieur | H10: 43883 | I10: 1/2 finales suisse individuels 2020
A11: 522 | B11: Manco Daniel | C11: 2113 | D11: 12 | E11: 176,08 | F11: Echandens | G11: Extérieur | H11: 43883 | I11: 1/2 finales suisse individuels 2020
A12: 540 | B12: Martinez Mary-Claude | C12: 2107 | D12: 12 | E12: 175,58 | F12: Echandens | G12: Extérieur | H12: 43883 | I12: 1/2 finales suisse individuels 2020
A13: 566 | B13: Menoud François | C13: 1325 | D13: 8 | E13: 165,63 | F13: Vidy | G13: Extérieur | H13: 43883 | I13: 1/2 finales suisse individuels 2020
... A20: 1869 | B20: Vergère Patricia | C20: 1282 | D20: 8 | E20: 160,25 | F20: Vidy | G20: Extérieur | H20: 43883 | I20: 1/2 finales suisse individuels 2020
A21: 1301 | B21: Miano Nunziato | C21: 2145 | D21: 12 | E21: =SUM(C21/D21) -> 178.75 | F21: Rumikon | G21: Extérieur | H21: 22-25.08.2019 | I21: 19 BC Strangers Doppel
A22: 2455 | B22: Rosset Franck | C22: 2084 | D22: 12 | E22: =SUM(C22/D22) -> 173.66667 | F22: Rumikon | G22: Extérieur | H22: 22-25.08.2019 | I22: 19 BC Strangers Doppel
A23: 1522 | B23: Aliten Bartolome | C23: 2131 | D23: 12 | E23: 177.58 | F23: Vidy | G23: Extérieur | H23: 26.08.-01.09.19 | I23: 1st 900 Global 3G Swiss Senior Open
A24: 2138 | B24: Carolino Romulo | C24: 1902 | D24: 12 | E24: 158.5 | F24: Vidy | G24: Extérieur | H24: 26.08.-01.09.19 | I24: 1st 900 Global 3G Swiss Senior Open
A25: 210 | B25: D'Apice Vincenzo | C25: 2008 | D25: 12 | E25: 167.33 | F25: Vidy | G25: Extérieur | H25: 26.08.-01.09.19 | I25: 1st 900 Global 3G Swiss Senior Open
A26: 290 | B26: Gabriel Eric | C26: 5137 | D26: 29 | E26: 177.14 | F26: Vidy | G26: Extérieur | H26: 26.08.-01.09.19 | I26: 1st 900 Global 3G Swiss Senior Open
A27: 408 | B27: Hutzli Philippe | C27: 920 | D27: 6 | E27: 153.33 | F27: Vidy | G27: Extérieur | H27: 26.08.-01.09.19 | I27: 1st 900 Global 3G Swiss Senior Open
A28: 440 | B28: Karakash Iris | C28: 1998 | D28: 11 | E28: 181.64 | F28: Vidy | G28: Extérieur | H28: 26.08.-01.09.19 | I28: 1st 900 Global 3G Swiss Senior Open
A29: 1301 | B29: Martin José | C29: 1791 | D29: 12 | E29: 149.25 | F29: Vidy | G29: Extérieur | H29: 26.08.-01.09.19 | I29: 1st 900 Global 3G Swiss Senior Open
A30: 540 | B30: Martinez Mary-Claude | C30: 1899 | D30: 11 | E30: 172.64 | F30: Vidy | G30: Extérieur | H30: 26.08.-01.09.19 | I30: 1st 900 Global 3G Swiss Senior Open
A31: 1377 | B31: Pellein Stéphane | C31: 5213 | D31: 28 | E31: 186.18 | F31: Vidy | G31: Extérieur | H31: 26.08.-01.09.19 | I31: 1st 900 Global 3G Swiss Senior Open
A32: 656 | B32: Perito Pascal | C32: 972 | D32: 6 | E32: 162 | F32: Vidy | G32: Extérieur | H32: 26.08.-01.09.19 | I32: 1st 900 Global 3G Swiss Senior Open
A33: 2456 | B33: Rosset Franck | C33: 5119 | D33: 29 | E33: 176.52 | F33: Vidy | G33: Extérieur | H33: 26.08.-01.09.19 | I33: 1st 900 Global 3G Swiss Senior Open
A34: 1868 | B34: Vergère Pascal | C34: 3076 | D34: 18 | E34: 170.89 | F34: Vidy | G34: Extérieur | H34: 26.08.-01.09.19 | I34: 1st 900 Global 3G Swiss Senior Open
... A52: 1869 | B52: Vergère Patricia | C52: 1338 | D52: 8 | E52: 167.25 | F52: Echandens | G52: Extérieur | H52: 10-13.10.2019 | I52: 20ème National Doublette LS 19
A53: 1819 | B53: Aries Claudia | C53: 4626 | D53: 27 | E53: 171.33 | F53: La Praille | G53: Genève | H53: 43855 | I53: Champ. Genevois 2020
A54: 1739 | B54: Barbuscia Isabelle | C54: 2282 | D54: 14 | E54: 163 | F54: La Praille | G54: Genève | H54: 43855 | I54: Champ. Genevois 2020
A55: 2327 | B55: Baruh Enis | C55: 3727 | D55: 22 | E55: 169.41 | F55: La Praille | G55: Genève | H55: 43855 | I55: Champ. Genevois 2020
A56: 2804 | B56: Boccalari Jean-Marc | C56: 4798 | D56: 27 | E56: 177.7 | F56: La Praille | G56: Genève | H56: 43855 | I56: Champ. Genevois 2020
A57: 111 | B57: Bourgeois Henri | C57: 1406 | D57: 8 | E57: 175.75 | F57: La Praille | G57: Genève | H57: 43855 | I57: Champ. Genevois 2020
A58: 132 | B58: Bull Oliver | C58: 4028 | D58: 22 | E58: 183.09 | F58: La Praille | G58: Genève | H58: 43855 | I58: Champ. Genevois 2020
A59: 1002 | B59: Burri Fernand | C59: 3499 | D59: 22 | E59: 159.05 | F59: La Praille | G59: Genève | H59: 43855 | I59: Champ. Genevois 2020
A60: 138 | B60: Burri Katia | C60: 4423 | D60: 27 | E60: 163.81 | F60: La Praille | G60: Genève | H60: 43855 | I60: Champ. Genevois 2020
A61: 1474 | B61: Calzavara Bernard | C61: 3559 | D61: 22 | E61: 161.77 | F61: La Praille | G61: Genève | H61: 43855 | I61: Champ. Genevois 2020
A62: 149 | B62: Cardinaux Cédric | C62: 5029 | D62: 27 | E62: 186.26 | F62: La Praille | G62: Genève | H62: 43855 | I62: Champ. Genevois 2020
A63: 151 | B63: Cardinaux Pierre-Alain | C63: 1140 | D63: 6 | E63: 190 | F63: La Praille | G63: Genève | H63: 43855 | I63: Champ. Genevois 2020
A64: 2138 | B64: Carolino Romulo | C64: 4934 | D64: 27 | E64: 182.74 | F64: La Praille | G64: Genève | H64: 43855 | I64: Champ. Genevois 2020
... A128: 541 | B128: Rodrigues Vanessa | C128: 4828 | D128: 27 | E128: 178.81 | F128: La Praille | G128: Genève | H128: 43855 | I128: Champ. Genevois 2020
A129: 721 | B129: Ronchi Jacques | C129: 3715 | D129: 22 | E129: 168.86 | F129: La Praille | G129: Genève | H129: 43855 | I129: Champ. Genevois 2020 | L129: =VLOOKUP(B130,#REF!,2) -> #REF!
A130: 2455 | B130: Rosa Pedro | C130: 3576 | D130: 22 | E130: 162.55 | F130: La Praille | G130: Genève | H130: 43855 | I130: Champ. Genevois 2020
A131: 2456 | B131: Rosset Franck | C131: 5104 | D131: 27 | E131: 189.04 | F131: La Praille | G131: Genève | H131: 43855 | I131: Champ. Genevois 2020
A132: 1464 | B132: Ruegg Pellarin Anne-Marie | C132: 2801 | D132: 22 | E132: 127.32 | F132: La Praille | G132: Genève | H132: 43855 | I132: Champ. Genevois 2020
A133: 2295 | B133: Serrano Ronaldo | C133: 2485 | D133: 16 | E133: 155.31 | F133: La Praille | G133: Genève | H133: 43855 | I133: Champ. Genevois 2020
A134: 790 | B134: Seydoux Pascal | C134: 5006 | D134: 27 | E134: 185.41 | F134: La Praille | G134: Genève | H134: 43855 | I134: Champ. Genevois 2020
A135: 1381 | B135: Stutz René | C135: 3864 | D135: 22 | E135: 175.64 | F135: La Praille | G135: Genève | H135: 43855 | I135: Champ. Genevois 2020
A136: 1467 | B136: Terrettaz Janique | C136: 3328 | D136: 22 | E136: 151.27 | F136: La Praille | G136: Genève | H136: 43855 | I136: Champ. Genevois 2020
A137: 2596 | B137: Terrettaz Joey | C137: 3276 | D137: 22 | E137: 148.91 | F137: La Praille | G137: Genève | H137: 43855 | I137: Champ. Genevois 2020
A138: 2775 | B138: Thomet Adrien | C138: 2261 | D138: 16 | E138: 141.31 | F138: La Praille | G138: Genève | H138: 43855 | I138: Champ. Genevois 2020
A139: 856 | B139: Tissot Yvette | C139: 1168 | D139: 8 | E139: 146 | F139: La Praille | G139: Genève | H139: 43855 | I139: Champ. Genevois 2020
A140: 1868 | B140: Vergère Pascal | C140: 4008 | D140: 22 | E140: 182.18 | F140: La Praille | G140: Genève | H140: 43855 | I140: Champ. Genevois 2020
A141: 1869 | B141: Vergère Patricia | C141: 4262 | D141: 27 | E141: 157.85 | F141: La Praille | G141: Genève | H141: 43855 | I141: Champ. Genevois 2020
... A143: 1757 | B143: Zbinden Ruth | C143: 3410 | D143: 22 | E143: 155 | F143: La Praille | G143: Genève | H143: 43855 | I143: Champ. Genevois 2020
A144: 1819 | B144: Aries Claudia | C144: 983 | D144: 6 | E144: 163,83 | F144: La Praille | G144: Genève | H144: 43844 | I144: Champ. Genevois Mixte 2020
A145: 2220 | B145: Chavaz Didier | C145: 1215 | D145: 6 | E145: 202,50 | F145: La Praille | G145: Genève | H145: 43844 | I145: Champ. Genevois Mixte 2020
A146: 181 | B146: Company Joëlle | C146: 1075 | D146: 6 | E146: 179,17 | F146: La Praille | G146: Genève | H146: 43844 | I146: Champ. Genevois Mixte 2020
A147: 189 | B147: Corbo Pierre | C147: 1102 | D147: 6 | E147: 183,67 | F147: La Praille | G147: Genève | H147: 43844 | I147: Champ. Genevois Mixte 2020
A148: 210 | B148: D'Apice Vincenzo | C148: 1027 | D148: 6 | E148: 171,17 | F148: La Praille | G148: Genève | H148: 43844 | I148: Champ. Genevois Mixte 2020
A149: 2474 | B149: Despres Marylène | C149: 733 | D149: 6 | E149: 122,17 | F149: La Praille | G149: Genève | H149: 43844 | I149: Champ. Genevois Mixte 2020
A150: 228 | B150: Dilsuk Linda | C150: 991 | D150: 6 | E150: 165,17 | F150: La Praille | G150: Genève | H150: 43844 | I150: Champ. Genevois Mixte 2020
A151: 272 | B151: Flores Alfredo | C151: 937 | D151: 6 | E151: 156,17 | F151: La Praille | G151: Genève | H151: 43844 | I151: Champ. Genevois Mixte 2020
A152: 290 | B152: Gabriel Eric | C152: 1194 | D152: 6 | E152: 199,00 | F152: La Praille | G152: Genève | H152: 43844 | I152: Champ. Genevois Mixte 2020
A153: 236 | B153: Gamboa dos Santos David | C153: 1209 | D153: 6 | E153: 201,50 | F153: La Praille | G153: Genève | H153: 43844 | I153: Champ. Genevois Mixte 2020
A154: 323 | B154: Golay Daniel | C154: 1056 | D154: 6 | E154: 176,00 | F154: La Praille | G154: Genève | H154: 43844 | I154: Champ. Genevois Mixte 2020
A155: 1172 | B155: Grosrey Krystel | C155: 1070 | D155: 6 | E155: 178,33 | F155: La Praille | G155: Genève | H155: 43844 | I155: Champ. Genevois Mixte 2020
... A162: 2222 | B162: Louvrier Philippe | C162: 973 | D162: 6 | E162: 162,17 | F162: La Praille | G162: Genève | H162: 43844 | I162: Champ. Genevois Mixte 2020
A163: 1301 | B163: Martin José | C163: 973 | D163: 6 | E163: 162,17 | F163: La Praille | G163: Genève | H163: 43844 | I163: Champ. Genevois Mixte 2020 | L163: =VLOOKUP(B164,#REF!,2) -> #REF!
A164: 540 | B164: Martinez Mary-Claude | C164: 1027 | D164: 6 | E164: 171,17 | F164: La Praille | G164: Genève | H164: 43844 | I164: Champ. Genevois Mixte 2020
A165: 568 | B165: Mermoud Alex | C165: 949 | D165: 6 | E165: 158,17 | F165: La Praille | G165: Genève | H165: 43844 | I165: Champ. Genevois Mixte 2020
A166: 1825 | B166: Morales Serrano Eduardo | C166: 1052 | D166: 6 | E166: 175,33 | F166: La Praille | G166: Genève | H166: 43844 | I166: Champ. Genevois Mixte 2020
A167: 327 | B167: Morand Marie-Noëlle | C167: 1043 | D167: 6 | E167: 173,83 | F167: La Praille | G167: Genève | H167: 43844 | I167: Champ. Genevois Mixte 2020
A168: 1763 | B168: Moyat Magali | C168: 1064 | D168: 6 | E168: 177,33 | F168: La Praille | G168: Genève | H168: 43844 | I168: Champ. Genevois Mixte 2020
A169: 633 | B169: Pakosz Cécile | C169: 1048 | D169: 6 | E169: 174,67 | F169: La Praille | G169: Genève | H169: 43844 | I169: Champ. Genevois Mixte 2020
A170: 13065 | B170: Paras Marife | C170: 896 | D170: 6 | E170: 149,33 | F170: La Praille | G170: Genève | H170: 43844 | I170: Champ. Genevois Mixte 2020
A171: 2631 | B171: Pellein Gwendoline | C171: 923 | D171: 6 | E171: 153,83 | F171: La Praille | G171: Genève | H171: 43844 | I171: Champ. Genevois Mixte 2020
A172: 1377 | B172: Pellein Stéphane | C172: 1144 | D172: 6 | E172: 190,67 | F172: La Praille | G172: Genève | H172: 43844 | I172: Champ. Genevois Mixte 2020
A173: 656 | B173: Perito Pascal | C173: 1214 | D173: 6 | E173: 202,33 | F173: La Praille | G173: Genève | H173: 43844 | I173: Champ. Genevois Mixte 2020
A174: 1378 | B174: Roagna Gilles-Eric | C174: 987 | D174: 6 | E174: 164,50 | F174: La Praille | G174: Genève | H174: 43844 | I174: Champ. Genevois Mixte 2020
A175: 2455 | B175: Rosa Pedro | C175: 1056 | D175: 6 | E175: 176,00 | F175: La Praille | G175: Genève | H175: 43844 | I175: Champ. Genevois Mixte 2020
... A182: 1757 | B182: Zbinden Ruth | C182: 865 | D182: 6 | E182: 144,17 | F182: La Praille | G182: Genève | H182: 43844 | I182: Champ. Genevois Mixte 2020
A183: 1819 | B183: Aries Claudia | C183: 1302 | D183: 8 | E183: 162.75 | F183: Echandens | G183: Extérieur | H183: 16-17.11.2019 | I183: Champ. Suisse Seniors 2020
A184: 48 | B184: Barbezat Francis | C184: 1476 | D184: 8 | E184: 184.5 | F184: Echandens | G184: Extérieur | H184: 16-17.11.2019 | I184: Champ. Suisse Seniors 2020
A185: 1739 | B185: Barbuscia Isabelle | C185: 1248 | D185: 8 | E185: 156 | F185: Echandens | G185: Extérieur | H185: 16-17.11.2019 | I185: Champ. Suisse Seniors 2020
A186: 2804 | B186: Boccalari Jean-Marc | C186: 1246 | D186: 8 | E186: 155.75 | F186: Echandens | G186: Extérieur | H186: 16-17.11.2019 | I186: Champ. Suisse Seniors 2020
A187: 151 | B187: Cardinaux Pierre-Alain | C187: 1429 | D187: 8 | E187: 178.63 | F187: Echandens | G187: Extérieur | H187: 16-17.11.2019 | I187: Champ. Suisse Seniors 2020
A188: 1782 | B188: Champagne Marc | C188: 1351 | D188: 8 | E188: 168.88 | F188: Echandens | G188: Extérieur | H188: 16-17.11.2019 | I188: Champ. Suisse Seniors 2020
A189: 1210 | B189: Chappuis Bernard | C189: 1380 | D189: 8 | E189: 172.5 | F189: Echandens | G189: Extérieur | H189: 16-17.11.2019 | I189: Champ. Suisse Seniors 2020
A190: 210 | B190: D'Apice Vincenzo | C190: 1332 | D190: 8 | E190: 166.5 | F190: Echandens | G190: Extérieur | H190: 16-17.11.2019 | I190: Champ. Suisse Seniors 2020
A191: 228 | B191: Dilsuk Linda | C191: 1082 | D191: 8 | E191: 135.25 | F191: Echandens | G191: Extérieur | H191: 16-17.11.2019 | I191: Champ. Suisse Seniors 2020
A192: 2790 | B192: Faller Noraida | C192: 1297 | D192: 8 | E192: 162.13 | F192: Echandens | G192: Extérieur | H192: 16-17.11.2019 | I192: Champ. Suisse Seniors 2020
A193: 272 | B193: Flores Alfredo | C193: 1269 | D193: 8 | E193: 158.63 | F193: Echandens | G193: Extérieur | H193: 16-17.11.2019 | I193: Champ. Suisse Seniors 2020
A194: 290 | B194: Gabriel Eric | C194: 2271 | D194: 12 | E194: 189.25 | F194: Echandens | G194: Extérieur | H194: 16-17.11.2019 | I194: Champ. Suisse Seniors 2020
... A217: 1869 | B217: Vergère Patricia | C217: 1899 | D217: 12 | E217: 158.25 | F217: Echandens | G217: Extérieur | H217: 16-17.11.2019 | I217: Champ. Suisse Seniors 2020
A218: 541 | B218: Rodrigues Vanessa | C218: 2897 | D218: 16 | E218: =SUM(C218/D218) -> 181.0625 | F218: Ankara | G218: Extérieur | H218: 43815 | I218: ECC 2019 Ankara
A219: 2220 | B219: Chavaz Didier | C219: 2909 | D219: 16 | E219: 181.81 | F219: Vidy | G219: Extérieur | H219: 03-09.02.2020 | I219: Inter de Vidy by Storm 2020
A220: 2822 | B220: Cataldo Wiliam | C220: 2011 | D220: 12 | E220: 167.58333 | F220: Vidy | G220: Extérieur | H220: 03-09.02.2020 | I220: Inter de Vidy by Storm 2020
A221: 2634 | B221: Franco Jonani | C221: 3711 | D221: 19 | E221: 195.32 | F221: Vidy | G221: Extérieur | H221: 03-09.02.2020 | I221: Inter de Vidy by Storm 2020
...

Sheet Compétitions -19-21 (2)
A1: No CH | B1: Noms | C1: Quilles | D1: Parties | E1: Moyenne | F1: Lieu | G1: Competition | H1: date | I1: Tournoi
A2: 1522 | B2: Aliten Bartolome | C2: 2131 | D2: 12 | E2: 177.58 | F2: Vidy | G2: Extérieur | H2: 26.08.-01.09.19 | I2: 1st 900 Global 3G Swiss Senior Open
A3: 1522 | B3: Aliten Bartolome | C3: 1705 | D3: 8 | E3: 213.13 | F3: Echandens | G3: Extérieur | H3: 10-13.10.2019 | I3: 20ème National Doublette LS 19
A4: 1522 | B4: Aliten Bartolome | C4: 4700 | D4: 24 | E4: 195.83 | F4: La Praille | G4: Genève | H4: 43807 | I4: Le Solitaire 2019
A5: 1522 | B5: Aliten Bartolome | C5: 1168 | D5: 6 | E5: 194.66667 | F5: La Praille | G5: Genève | H5: 43921 | I5: Le Solitaire 2020
A6: 1522 | B6: Aliten Bartolome | C6: 507 | D6: 3 | E6: 169 | F6: Balexert | G6: Ligue | H6: 43815 | I6: Ligue inter 19
A7: 1522 | B7: Aliten Bartolome | C7: 671 | D7: 3 | E7: 223.66667 | F7: Balexert | G7: Ligue | H7: 43921 | I7: Ligue inter 2020
A8: 1522 | B8: Aliten Bartolome | C8: 9770 | D8: 52 | E8: 187.88 | F8: La Praille | G8: Ligue | H8: 43803 | I8: Ligue SGB 2019
A9: 1522 | B9: Aliten Bartolome | C9: 4757 | D9: 24 | E9: 198,21 | F9: La Praille | G9: Ligue | H9: 43921 | I9: Ligue SGB 2020
A10: 1522 | B10: Aliten Bartolome | C10: 2342 | D10: 12 | E10: 195.17 | F10: Echandens | G10: Extérieur | H10: 03-08.03.2020 | I10: Low Cost 2020
A11: 1522 | B11: Aliten Bartolome | C11: 3670 | D11: 18 | E11: 203.89 | F11: Martigny | G11: Extérieur | H11: 30.11-1.12.2019 | I11: Triplette de Noël 2019
A12: 1522 | B12: Aliten Bartolome | C12: 588 | D12: 3 | E12: 196 | F12: The Balexert | G12: Ligue | H12: 44116 | I12: Ligue Inter 2020-2
A13: 1522 | B13: Aliten Bartolome | C13: 4440 | D13: 24 | E13: 185 | F13: La Praille | G13: Ligue | H13: 44118 | I13: Ligue SGB 2020-2
B14: Total Aliten Bartolome | C14: =SUBTOTAL(9,C2:C13) -> 36449 | D14: =SUBTOTAL(9,D2:D13) -> 189 | E14: =SUM(C14/D14) -> 192.85185 | I14: =SUBTOTAL(9,I2:I13) -> 0
A15: 1819 | B15: Aries Claudia | C15: 1282 | D15: 8 | E15: 160,25 | F15: Vidy | G15: Extérieur | H15: 43883 | I15: 1/2 finales suisse individuels 2020
A16: 1819 | B16: Aries Claudia | C16: 1386 | D16: 8 | E16: 173.25 | F16: Echandens | G16: Extérieur | H16: 10-13.10.2019 | I16: 20ème National Doublette LS 19
A17: 1819 | B17: Aries Claudia | C17: 4626 | D17: 27 | E17: 171.33 | F17: La Praille | G17: Genève | H17: 43855 | I17: Champ. Genevois 2020
A18: 1819 | B18: Aries Claudia | C18: 983 | D18: 6 | E18: 163,83 | F18: La Praille | G18: Genève | H18: 43844 | I18: Champ. Genevois Mixte 2020
A19: 1819 | B19: Aries Claudia | C19: 1302 | D19: 8 | E19: 162.75 | F19: Echandens | G19: Extérieur | H19: 16-17.11.2019 | I19: Champ. Suisse Seniors 2020
A20: 1819 | B20: Aries Claudia | C20: 3638 | D20: 24 | E20: 151.58 | F20: Balexert | G20: Ligue | H20: 43815 | I20: Ligue inter 19
A21: 1819 | B21: Aries Claudia | C21: 2462 | D21: 15 | E21: 164.13333 | F21: Balexert | G21: Ligue | H21: 43921 | I21: Ligue inter 2020
A22: 1819 | B22: Aries Claudia | C22: 4467 | D22: 28 | E22: 159.54 | F22: La Praille | G22: Ligue | H22: 43803 | I22: Ligue SGB 2019
A23: 1819 | B23: Aries Claudia | C23: 3395 | D23: 20 | E23: 169,75 | F23: La Praille | G23: Ligue | H23: 43921 | I23: Ligue SGB 2020
A24: 1819 | B24: Aries Claudia | C24: 3079 | D24: 18 | E24: 171.06 | F24: Echandens | G24: Extérieur | H24: 03-08.03.2020 | I24: Low Cost 2020
A25: 1819 | B25: Aries Claudia | C25: 2414 | D25: 15 | E25: 160,93 | F25: Vidy | G25: Extérieur | H25: 30.10-03.11.2019 | I25: Open du Lac 2019
A26: 1819 | B26: Aries Claudia | C26: 1389 | D26: 8 | E26: 173,63 | F26: Vidy | G26: Extérieur | H26: 43862 | I26: Qualif régional DA-DB-HA 20
A27: 1819 | B27: Aries Claudia | C27: 1139 | D27: 8 | E27: =SUM(C27/D27) -> 142.375 | F27: La Praille | G27: Genève | H27: 19-20.06.2021 | I27: Qualif régional Individuels 2021
A28: 1819 | B28: Aries Claudia | C28: 1333 | D28: 9 | E28: 148.11 | F28: Rumikon | G28: Extérieur | H28: 44093 | I28: Ch. Suisse indi. DB 2020
A29: 1819 | B29: Aries Claudia | C29: 2306 | D29: 14 | E29: 164.71 | F29: Echandens | G29: Extérieur | H29: 1-4.10.2020 | I29: Doublettes LS 2020
A30: 1819 | B30: Aries Claudia | C30: 2320 | D30: 15 | E30: 154.67 | F30: The Balexert | G30: Ligue | H30: 44116 | I30: Ligue Inter 2020-2
A31: 1819 | B31: Aries Claudia | C31: 2005 | D31: 12 | E31: 167.08 | F31: La Praille | G31: Ligue | H31: 44118 | I31: Ligue SGB 2020-2
B32: Total Aries Claudia | C32: =SUBTOTAL(9,C15:C31) -> 39526 | D32: =SUBTOTAL(9,D15:D31) -> 243 | E32: =SUM(C32/D32) -> 162.65844 | I32: =SUBTOTAL(9,I15:I31) -> 0
A33: 13064 | B33: Aseron Roldan | C33: 8148 | D33: 52 | E33: 156.69 | F33: La Praille | G33: Ligue | H33: 43803 | I33: Ligue SGB 2019
B34: Total Aseron Roldan | C34: =SUBTOTAL(9,C33:C33) -> 8148 | D34: =SUBTOTAL(9,D33:D33) -> 52 | E34: =SUM(C34/D34) -> 156.69231 | I34: =SUBTOTAL(9,I33:I33) -> 0
A35: 48 | B35: Barbezat Francis | C35: 1476 | D35: 8 | E35: 184.5 | F35: Echandens | G35: Extérieur | H35: 16-17.11.2019 | I35: Champ. Suisse Seniors 2020
A36: 48 | B36: Barbezat Francis | C36: 4010 | D36: 21 | E36: 190.95 | F36: Balexert | G36: Ligue | H36: 43815 | I36: Ligue inter 19
A37: 48 | B37: Barbezat Francis | C37: 1008 | D37: 6 | E37: 168 | F37: Balexert | G37: Ligue | H37: 43921 | I37: Ligue inter 2020
A38: 48 | B38: Barbezat Francis | C38: 2009 | D38: 12 | E38: 167.42 | F38: Echandens | G38: Extérieur | H38: 21-22.09.2019 | I38: Team Events 2019
B39: Total Barbezat Francis | C39: =SUBTOTAL(9,C35:C38) -> 8503 | D39: =SUBTOTAL(9,D35:D38) -> 47 | E39: =SUM(C39/D39) -> 180.91489 | I39: =SUBTOTAL(9,I35:I38) -> 0
A40: 1739 | B40: Barbuscia Isabelle | C40: 2282 | D40: 14 | E40: 163 | F40: La Praille | G40: Genève | H40: 43855 | I40: Champ. Genevois 2020
A41: 1739 | B41: Barbuscia Isabelle | C41: 1248 | D41: 8 | E41: 156 | F41: Echandens | G41: Extérieur | H41: 16-17.11.2019 | I41: Champ. Suisse Seniors 2020
A42: 1739 | B42: Barbuscia Isabelle | C42: 921 | D42: 6 | E42: 153.5 | F42: La Praille | G42: Genève | H42: 43807 | I42: Le Solitaire 2019
B43: Total Barbuscia Isabelle | C43: =SUBTOTAL(9,C40:C42) -> 4451 | D43: =SUBTOTAL(9,D40:D42) -> 28 | E43: =SUM(C43/D43) -> 158.96429 | I43: =SUBTOTAL(9,I40:I42) -> 0
A44: 2327 | B44: Baruh Enis | C44: 3727 | D44: 22 | E44: 169.41 | F44: La Praille | G44: Genève | H44: 43855 | I44: Champ. Genevois 2020
A45: 2327 | B45: Baruh Enis | C45: 688 | D45: 4 | E45: 172 | F45: La Praille | G45: Ligue | H45: 43803 | I45: Ligue SGB 2019
A46: 2327 | B46: Baruh Enis | C46: 1373 | D46: 8 | E46: 171,63 | F46: Echandens | G46: Extérieur | H46: 43862 | I46: Qualif régional HB-HC 2020
A47: 2327 | B47: Baruh Enis | C47: 1137 | D47: 6 | E47: 189.5 | F47: La Praille | G47: Genève | H47: 43715 | I47: Qualif Lg Nationale romande 19
A48: 2327 | B48: Baruh Enis | C48: 1369 | D48: 8 | E48: =SUM(C48/D48) -> 171.125 | F48: La Praille | G48: Genève | H48: 19-20.06.2021 | I48: Qualif régional Individuels 2021
B49: Total Baruh Enis | C49: =SUBTOTAL(9,C44:C48) -> 8294 | D49: =SUBTOTAL(9,D44:D48) -> 48 | E49: =SUM(C49/D49) -> 172.79167 | I49: =SUBTOTAL(9,I44:I48) -> 0
A50: 236 | B50: Blacas David | C50: 1080 | D50: 6 | E50: 180 | F50: The Balexert | G50: Ligue | H50: 44116 | I50: Ligue Inter 2020-2
A51: 236 | B51: Gamboa dos Santos David | C51: 1209 | D51: 6 | E51: 201,50 | F51: La Praille | G51: Genève | H51: 43844 | I51: Champ. Genevois Mixte 2020
A52: 236 | B52: Gamboa dos Santos David | C52: 6224 | D52: 33 | E52: 188.61 | F52: Balexert | G52: Ligue | H52: 43815 | I52: Ligue inter 19
A53: 236 | B53: Gamboa dos Santos David | C53: 2290 | D53: 12 | E53: 190.83333 | F53: Balexert | G53: Ligue | H53: 43921 | I53: Ligue inter 2020
A54: 236 | B54: Gamboa dos Santos David | C54: 2694 | D54: 15 | E54: 179.6 | F54: Echandens | G54: Extérieur | H54: 21-22.09.2019 | I54: Team Events 2019
B55: Total Blacas David | C55: =SUBTOTAL(9,C50:C54) -> 13497 | D55: =SUBTOTAL(9,D50:D54) -> 72 | E55: =SUM(C55/D55) -> 187.45833 | I55: =SUBTOTAL(9,I50:I50) -> 0
A56: 2804 | B56: Boccalari Jean-Marc | C56: 1304 | D56: 8 | E56: 163,00 | F56: Vidy | G56: Extérieur | H56: 43883 | I56: 1/2 finales suisse individuels 2020
A57: 2804 | B57: Boccalari Jean-Marc | C57: 4798 | D57: 27 | E57: 177.7 | F57: La Praille | G57: Genève | H57: 43855 | I57: Champ. Genevois 2020
A58: 2804 | B58: Boccalari Jean-Marc | C58: 1246 | D58: 8 | E58: 155.75 | F58: Echandens | G58: Extérieur | H58: 16-17.11.2019 | I58: Champ. Suisse Seniors 2020
A59: 2804 | B59: Boccalari Jean-Marc | C59: 1953 | D59: 12 | E59: 162.75 | F59: Balexert | G59: Ligue | H59: 43815 | I59: Ligue inter 19
A60: 2804 | B60: Boccalari Jean-Marc | C60: 1590 | D60: 9 | E60: 176.66667 | F60: Balexert | G60: Ligue | H60: 43921 | I60: Ligue inter 2020
A61: 2804 | B61: Boccalari Jean-Marc | C61: 718 | D61: 4 | E61: 179,50 | F61: La Praille | G61: Ligue | H61: 43921 | I61: Ligue SGB 2020
A62: 2804 | B62: Boccalari Jean-Marc | C62: 1404 | D62: 8 | E62: 175,50 | F62: Echandens | G62: Extérieur | H62: 43862 | I62: Qualif régional HB-HC 2020
B63: Total Boccalari Jean-Marc | C63: =SUBTOTAL(9,C56:C62) -> 13013 | D63: =SUBTOTAL(9,D56:D62) -> 76 | E63: =SUM(C63/D63) -> 171.22368 | I63: =SUBTOTAL(9,I56:I62) -> 0
A64: 111 | B64: Bourgeois Henri | C64: 1406 | D64: 8 | E64: 175.75 | F64: La Praille | G64: Genève | H64: 43855 | I64: Champ. Genevois 2020
A65: 111 | B65: Bourgeois Henri | C65: 6220 | D65: 36 | E65: 172.78 | F65: La Praille | G65: Genève | H65: 43807 | I65: Le Solitaire 2019
A66: 111 | B66: Bourgeois Henri | C66: 2045 | D66: 12 | E66: 170.41667 | F66: La Praille | G66: Genève | H66: 43921 | I66: Le Solitaire 2020
A67: 111 | B67: Bourgeois Henri | C67: 973 | D67: 6 | E67: 162.17 | F67: Balexert | G67: Ligue | H67: 43815 | I67: Ligue inter 19
A68: 111 | B68: Bourgeois Henri | C68: 1966 | D68: 12 | E68: 163.83333 | F68: Balexert | G68: Ligue | H68: 43921 | I68: Ligue inter 2020
A69: 111 | B69: Bourgeois Henri | C69: 8197 | D69: 48 | E69: 170.77 | F69: La Praille | G69: Ligue | H69: 43803 | I69: Ligue SGB 2019
A70: 111 | B70: Bourgeois Henri | C70: 4070 | D70: 24 | E70: 169,58 | F70: La Praille | G70: Ligue | H70: 43921 | I70: Ligue SGB 2020
A71: 111 | B71: Bourgeois Henri | C71: 3065 | D71: 18 | E71: 170.28 | F71: The Balexert | G71: Ligue | H71: 44116 | I71: Ligue Inter 2020-2
A72: 111 | B72: Bourgeois Henri | C72: 3367 | D72: 20 | E72: 168.35 | F72: La Praille | G72: Ligue | H72: 44118 | I72: Ligue SGB 2020-2
A73: 111 | B73: Bourgeois Henri | C73: 1999 | D73: 12 | E73: 166.58 | F73: La Praille | G73: Genève | H73: 44115 | I73: Le Solitaire 2020-2
B74: Total Bourgeois Henri | C74: =SUBTOTAL(9,C64:C73) -> 33308 | D74: =SUBTOTAL(9,D64:D73) -> 196 | E74: =SUM(C74/D74) -> 169.93878 | I74: =SUBTOTAL(9,I64:I73) -> 0
A75: 123 | B75: Bravo Mario | C75: 1843 | D75: 9 | E75: 204.77778 | F75: Balexert | G75: Ligue | H75: 43921 | I75: Ligue inter 2020
A76: 123 | B76: Bravo Mario | C76: 675 | D76: 4 | E76: 168.75 | F76: La Praille | G76: Ligue | H76: 43803 | I76: Ligue SGB 2019
A77: 123 | B77: Bravo Mario | C77: 2245 | D77: 12 | E77: 187.08 | F77: The Balexert | G77: Ligue | H77: 44116 | I77: Ligue Inter 2020-2
A78: 123 | B78: Bravo Mario | C78: 3181 | D78: 16 | E78: 198.81 | F78: La Praille | G78: Ligue | H78: 44118 | I78: Ligue SGB 2020-2
B79: Total Bravo Mario | C79: =SUBTOTAL(9,C75:C78) -> 7944 | D79: =SUBTOTAL(9,D75:D78) -> 41 | E79: =SUM(C79/D79) -> 193.7561 | I79: =SUBTOTAL(9,I75:I78) -> 0
A80: 132 | B80: Bull Oliver | C80: 4028 | D80: 22 | E80: 183.09 | F80: La Praille | G80: Genève | H80: 43855 | I80: Champ. Genevois 2020
A81: 132 | B81: Bull Oliver | C81: 5900 | D81: 33 | E81: 178.79 | F81: Balexert | G81: Ligue | H81: 43815 | I81: Ligue inter 19
A82: 132 | B82: Bull Oliver | C82: 2098 | D82: 12 | E82: 174.83333 | F82: Balexert | G82: Ligue | H82: 43921 | I82: Ligue inter 2020
A83: 132 | B83: Bull Oliver | C83: 1502 | D83: 9 | E83: 166.89 | F83: The Balexert | G83: Ligue | H83: 44116 | I83: Ligue Inter 2020-2
B84: Total Bull Oliver | C84: =SUBTOTAL(9,C80:C83) -> 13528 | D84: =SUBTOTAL(9,D80:D83) -> 76 | E84: =SUM(C84/D84) -> 178 | I84: =SUBTOTAL(9,I80:I83) -> 0
A85: 1002 | B85: Burri Fernand | C85: 3499 | D85: 22 | E85: 159.05 | F85: La Praille | G85: Genève | H85: 43855 | I85: Champ. Genevois 2020
A86: 1002 | B86: Burri Fernand | C86: 1980 | D86: 12 | E86: 165 | F86: La Praille | G86: Genève | H86: 43807 | I86: Le Solitaire 2019
A87: 1002 | B87: Burri Fernand | C87: 1976 | D87: 12 | E87: 164.66667 | F87: La Praille | G87: Genève | H87: 43921 | I87: Le Solitaire 2020
A88: 1002 | B88: Burri Fernand | C88: 1298 | D88: 8 | E88: 162,25 | F88: Echandens | G88: Extérieur | H88: 43862 | I88: Qualif régional HB-HC 2020
B89: Total Burri Fernand | C89: =SUBTOTAL(9,C85:C88) -> 8753 | D89: =SUBTOTAL(9,D85:D88) -> 54 | E89: =SUM(C89/D89) -> 162.09259 | I89: =SUBTOTAL(9,I85:I88) -> 0
A90: 138 | B90: Burri Katia | C90: 4423 | D90: 27 | E90: 163.81 | F90: La Praille | G90: Genève | H90: 43855 | I90: Champ. Genevois 2020
A91: 138 | B91: Burri Katia | C91: 1823 | D91: 12 | E91: 151.92 | F91: La Praille | G91: Genève | H91: 43807 | I91: Le Solitaire 2019
A92: 138 | B92: Burri Katia | C92: 947 | D92: 6 | E92: 157.83333 | F92: La Praille | G92: Genève | H92: 43921 | I92: Le Solitaire 2020
B93: Total Burri Katia | C93: =SUBTOTAL(9,C90:C92) -> 7193 | D93: =SUBTOTAL(9,D90:D92) -> 45 | E93: =SUM(C93/D93) -> 159.84444 | I93: =SUBTOTAL(9,I90:I92) -> 0
A94: 142 | B94: Caldi Jean-Marc | C94: 4244 | D94: 24 | E94: 176.83 | F94: Balexert | G94: Ligue | H94: 43815 | I94: Ligue inter 19
A95: 142 | B95: Caldi Jean-Marc | C95: 2379 | D95: 12 | E95: 198.25 | F95: Balexert | G95: Ligue | H95: 43921 | I95: Ligue inter 2020
A96: 142 | B96: Caldi Jean-Marc | C96: 2113 | D96: 12 | E96: 176.08 | F96: The Balexert | G96: Ligue | H96: 44116 | I96: Ligue Inter 2020-2
B97: Total Caldi Jean-Marc | C97: =SUBTOTAL(9,C94:C96) -> 8736 | D97: =SUBTOTAL(9,D94:D96) -> 48 | E97: =SUM(C97/D97) -> 182 | I97: =SUBTOTAL(9,I94:I96) -> 0
A98: 1474 | B98: Calzavara Bernard | C98: 3559 | D98: 22 | E98: 161.77 | F98: La Praille | G98: Genève | H98: 43855 | I98: Champ. Genevois 2020
B99: Total Calzavara Bernard | C99: =SUBTOTAL(9,C98:C98) -> 3559 | D99: =SUBTOTAL(9,D98:D98) -> 22 | E99: =SUM(C99/D99) -> 161.77273 | I99: =SUBTOTAL(9,I98:I98) -> 0
A100: 149 | B100: Cardinaux Cédric | C100: 1448 | D100: 8 | E100: 181 | F100: Echandens | G100: Extérieur | H100: 10-13.10.2019 | I100: 20ème National Doublette LS 19
...

Sheet Individuels 19-21
A1: Noms | B1: (Tous) | D1: No licence | E1: =VLOOKUP(B1,[2]noms!A2:E118,2) -> #N/A
A2: Au 01.07.2021 | B2: HDC | C2: =VLOOKUP(B1,[2]noms!A2:E118,3) -> #N/A | D2: CAT | E2: =VLOOKUP(B1,[2]noms!A2:E119,4) -> #N/A
B3: Étiquettes de colonnes
A4: Étiquettes de lignes | B4: Extérieur | C4: Genève | D4: Ligue | E4: Total général
A5: 1/2 finales suisse individuels 2020
A6: Somme de Quilles | B6: 31944 | E6: 31944
A7: Somme de Parties | B7: 180 | E7: 180
A8: Somme de Moyennes | B8: 177.46667 | C8: #DIV/0! | D8: #DIV/0! | E8: 177.46667
A9: 19 BC Strangers Doppel
A10: Somme de Quilles | B10: 4229 | E10: 4229
A11: Somme de Parties | B11: 24 | E11: 24
A12: Somme de Moyennes | B12: 176.20833 | C12: #DIV/0! | D12: #DIV/0! | E12: 176.20833
A13: 1st 900 Global 3G Swiss Senior Open
A14: Somme de Quilles | B14: 34944 | E14: 34944
A15: Somme de Parties | B15: 203 | E15: 203
A16: Somme de Moyennes | B16: 172.13793 | C16: #DIV/0! | D16: #DIV/0! | E16: 172.13793
A17: 20 BC Strangers Doppel
A18: Somme de Quilles | B18: 4422 | E18: 4422
A19: Somme de Parties | B19: 24 | E19: 24
A20: Somme de Moyennes | B20: 184.25 | C20: #DIV/0! | D20: #DIV/0! | E20: 184.25
A21: 20ème National Doublette LS 19
A22: Somme de Quilles | B22: 31476 | E22: 31476
A23: Somme de Parties | B23: 171 | E23: 171
A24: Somme de Moyennes | B24: 184.07018 | C24: #DIV/0! | D24: #DIV/0! | E24: 184.07018
A25: Ch. Suisse indi. DA 2020
A26: Somme de Quilles | B26: 3210 | E26: 3210
A27: Somme de Parties | B27: 18 | E27: 18
A28: Somme de Moyennes | B28: 178.33333 | C28: #DIV/0! | D28: #DIV/0! | E28: 178.33333
A29: Ch. Suisse indi. DB 2020
A30: Somme de Quilles | B30: 5747 | E30: 5747
A31: Somme de Parties | B31: 36 | E31: 36
A32: Somme de Moyennes | B32: 159.63889 | C32: #DIV/0! | D32: #DIV/0! | E32: 159.63889
A33: Ch. Suisse indi. HA 2020
A34: Somme de Quilles | B34: 3161 | E34: 3161
A35: Somme de Parties | B35: 18 | E35: 18
A36: Somme de Moyennes | B36: 175.61111 | C36: #DIV/0! | D36: #DIV/0! | E36: 175.61111
A37: Ch. Suisse indi. HB 2020
A38: Somme de Quilles | B38: 1514 | E38: 1514
A39: Somme de Parties | B39: 9 | E39: 9
A40: Somme de Moyennes | B40: 168.22222 | C40: #DIV/0! | D40: #DIV/0! | E40: 168.22222
A41: Ch. Suisse indi. HC 2020
A42: Somme de Quilles | B42: 1460 | E42: 1460
A43: Somme de Parties | B43: 9 | E43: 9
A44: Somme de Moyennes | B44: 162.22222 | C44: #DIV/0! | D44: #DIV/0! | E44: 162.22222
A45: Ch. Suisse juniors 2020
A46: Somme de Quilles | B46: 2826 | E46: 2826
A47: Somme de Parties | B47: 19 | E47: 19
A48: Somme de Moyennes | B48: 148.73684 | C48: #DIV/0! | D48: #DIV/0! | E48: 148.73684
A49: Ch. Suisse juniors 2021
A50: Somme de Quilles | B50: 1162 | E50: 1162
A51: Somme de Parties | B51: 8 | E51: 8
A52: Somme de Moyennes | B52: 145.25 | C52: #DIV/0! | D52: #DIV/0! | E52: 145.25
A53: Ch. Suisse Seniors 21
A54: Somme de Quilles | B54: 26872 | E54: 26872
A55: Somme de Parties | B55: 163 | E55: 163
A56: Somme de Moyennes | B56: 164.8589 | C56: #DIV/0! | D56: #DIV/0! | E56: 164.8589
A57: Chal Louis Pari 2020
A58: Somme de Quilles | B58: 1056 | E58: 1056
A59: Somme de Parties | B59: 6 | E59: 6
A60: Somme de Moyennes | B60: 176 | C60: #DIV/0! | D60: #DIV/0! | E60: 176
A61: Champ. Genevois 2020
A62: Somme de Quilles | C62: 319172 | E62: 319172
A63: Somme de Parties | C63: 1887 | E63: 1887
A64: Somme de Moyennes | B64: #DIV/0! | C64: 169.14255 | D64: #DIV/0! | E64: 169.14255
A65: Champ. Genevois Mixte 2020
A66: Somme de Quilles | C66: 39717 | E66: 39717
A67: Somme de Parties | C67: 234 | E67: 234
A68: Somme de Moyennes | B68: #DIV/0! | C68: 169.73077 | D68: #DIV/0! | E68: 169.73077
A69: Champ. Suisse Seniors 2020
A70: Somme de Quilles | B70: 55251 | E70: 55251
A71: Somme de Parties | B71: 328 | E71: 328
A72: Somme de Moyennes | B72: 168.44817 | C72: #DIV/0! | D72: #DIV/0! | E72: 168.44817
A73: Doublettes LS 2020
A74: Somme de Quilles | B74: 26922 | E74: 26922
A75: Somme de Parties | B75: 156 | E75: 156
A76: Somme de Moyennes | B76: 172.57692 | C76: #DIV/0! | D76: #DIV/0! | E76: 172.57692
A77: ECC 2019 Ankara
A78: Somme de Quilles | B78: 2897 | E78: 2897
A79: Somme de Parties | B79: 16 | E79: 16
A80: Somme de Moyennes | B80: 181.0625 | C80: #DIV/0! | D80: #DIV/0! | E80: 181.0625
A81: Inter de Vidy by Storm 2020
A82: Somme de Quilles | B82: 15033 | E82: 15033
A83: Somme de Parties | B83: 83 | E83: 83
A84: Somme de Moyennes | B84: 181.12048 | C84: #DIV/0! | D84: #DIV/0! | E84: 181.12048
A85: Le Solitaire 2019
A86: Somme de Quilles | C86: 135300 | E86: 135300
A87: Somme de Parties | C87: 784 | E87: 784
A88: Somme de Moyennes | B88: #DIV/0! | C88: 172.57653 | D88: #DIV/0! | E88: 172.57653
A89: Le Solitaire 2020
A90: Somme de Quilles | C90: 39399 | E90: 39399
A91: Somme de Parties | C91: 222 | E91: 222
A92: Somme de Moyennes | B92: #DIV/0! | C92: 177.47297 | D92: #DIV/0! | E92: 177.47297
A93: Le Solitaire 2020-2
A94: Somme de Quilles | C94: 47616 | E94: 47616
A95: Somme de Parties | C95: 276 | E95: 276
A96: Somme de Moyennes | B96: #DIV/0! | C96: 172.52174 | D96: #DIV/0! | E96: 172.52174
A97: Ligue inter 19
A98: Somme de Quilles | D98: 234581 | E98: 234581
A99: Somme de Parties | D99: 1371 | E99: 1371
A100: Somme de Moyennes | B100: #DIV/0! | C100: #DIV/0! | D100: 171.10212 | E100: 171.10212
...

Sheet Compétitions-ligues
A1: No CH | B1: Noms | C1: Quilles | D1: Parties | E1: Moyenne | F1: Lieu | G1: Competition | H1: date | I1: Tournoi
A2: 1819 | B2: Aries Claudia | C2: 1282 | D2: 8 | E2: 160,25 | F2: Vidy | G2: Extérieur | H2: 43883 | I2: 1/2 finales suisse individuels 2020
A3: 2804 | B3: Boccalari Jean-Marc | C3: 1304 | D3: 8 | E3: 163,00 | F3: Vidy | G3: Extérieur | H3: 43883 | I3: 1/2 finales suisse individuels 2020
A4: 323 | B4: Golay Daniel | C4: 2440 | D4: 12 | E4: 203,33 | F4: Echandens | G4: Extérieur | H4: 43883 | I4: 1/2 finales suisse individuels 2020
A5: 2265 | B5: Gomez Domingo | C5: 1486 | D5: 8 | E5: 185,75 | F5: Vidy | G5: Extérieur | H5: 43883 | I5: 1/2 finales suisse individuels 2020
A6: 1172 | B6: Grosrey Krystel | C6: 1281 | D6: 8 | E6: 160,13 | F6: Vidy | G6: Extérieur | H6: 43883 | I6: 1/2 finales suisse individuels 2020
A7: 356 | B7: Guyot Jacques | C7: 2441 | D7: 12 | E7: 203,42 | F7: Echandens | G7: Extérieur | H7: 43883 | I7: 1/2 finales suisse individuels 2020
A8: 407 | B8: Hutzli Christian | C8: 1414 | D8: 8 | E8: 176,75 | F8: Vidy | G8: Extérieur | H8: 43883 | I8: 1/2 finales suisse individuels 2020
A9: 2223 | B9: Louvrier Ivana | C9: 1339 | D9: 8 | E9: 167,38 | F9: Vidy | G9: Extérieur | H9: 43883 | I9: 1/2 finales suisse individuels 2020
A10: 2222 | B10: Louvrier Philippe | C10: 1272 | D10: 8 | E10: 159,00 | F10: Vidy | G10: Extérieur | H10: 43883 | I10: 1/2 finales suisse individuels 2020
A11: 522 | B11: Manco Daniel | C11: 2113 | D11: 12 | E11: 176,08 | F11: Echandens | G11: Extérieur | H11: 43883 | I11: 1/2 finales suisse individuels 2020
A12: 540 | B12: Martinez Mary-Claude | C12: 2107 | D12: 12 | E12: 175,58 | F12: Echandens | G12: Extérieur | H12: 43883 | I12: 1/2 finales suisse individuels 2020
A13: 566 | B13: Menoud François | C13: 1325 | D13: 8 | E13: 165,63 | F13: Vidy | G13: Extérieur | H13: 43883 | I13: 1/2 finales suisse individuels 2020
... A20: 1869 | B20: Vergère Patricia | C20: 1282 | D20: 8 | E20: 160,25 | F20: Vidy | G20: Extérieur | H20: 43883 | I20: 1/2 finales suisse individuels 2020
A21: 1301 | B21: Miano Nunziato | C21: 2145 | D21: 12 | E21: =SUM(C21/D21) -> 178.75 | F21: Rumikon | G21: Extérieur | H21: 22-25.08.2019 | I21: 19 BC Strangers Doppel
A22: 2455 | B22: Rosset Franck | C22: 2084 | D22: 12 | E22: =SUM(C22/D22) -> 173.66667 | F22: Rumikon | G22: Extérieur | H22: 22-25.08.2019 | I22: 19 BC Strangers Doppel
A23: 1522 | B23: Aliten Bartolome | C23: 2131 | D23: 12 | E23: 177.58 | F23: Vidy | G23: Extérieur | H23: 26.08.-01.09.19 | I23: 1st 900 Global 3G Swiss Senior Open
A24: 2138 | B24: Carolino Romulo | C24: 1902 | D24: 12 | E24: 158.5 | F24: Vidy | G24: Extérieur | H24: 26.08.-01.09.19 | I24: 1st 900 Global 3G Swiss Senior Open
A25: 210 | B25: D'Apice Vincenzo | C25: 2008 | D25: 12 | E25: 167.33 | F25: Vidy | G25: Extérieur | H25: 26.08.-01.09.19 | I25: 1st 900 Global 3G Swiss Senior Open
A26: 290 | B26: Gabriel Eric | C26: 5137 | D26: 29 | E26: 177.14 | F26: Vidy | G26: Extérieur | H26: 26.08.-01.09.19 | I26: 1st 900 Global 3G Swiss Senior Open
A27: 408 | B27: Hutzli Philippe | C27: 920 | D27: 6 | E27: 153.33 | F27: Vidy | G27: Extérieur | H27: 26.08.-01.09.19 | I27: 1st 900 Global 3G Swiss Senior Open
A28: 440 | B28: Karakash Iris | C28: 1998 | D28: 11 | E28: 181.64 | F28: Vidy | G28: Extérieur | H28: 26.08.-01.09.19 | I28: 1st 900 Global 3G Swiss Senior Open
A29: 1301 | B29: Martin José | C29: 1791 | D29: 12 | E29: 149.25 | F29: Vidy | G29: Extérieur | H29: 26.08.-01.09.19 | I29: 1st 900 Global 3G Swiss Senior Open
A30: 540 | B30: Martinez Mary-Claude | C30: 1899 | D30: 11 | E30: 172.64 | F30: Vidy | G30: Extérieur | H30: 26.08.-01.09.19 | I30: 1st 900 Global 3G Swiss Senior Open
A31: 1377 | B31: Pellein Stéphane | C31: 5213 | D31: 28 | E31: 186.18 | F31: Vidy | G31: Extérieur | H31: 26.08.-01.09.19 | I31: 1st 900 Global 3G Swiss Senior Open
A32: 656 | B32: Perito Pascal | C32: 972 | D32: 6 | E32: 162 | F32: Vidy | G32: Extérieur | H32: 26.08.-01.09.19 | I32: 1st 900 Global 3G Swiss Senior Open
A33: 2456 | B33: Rosset Franck | C33: 5119 | D33: 29 | E33: 176.52 | F33: Vidy | G33: Extérieur | H33: 26.08.-01.09.19 | I33: 1st 900 Global 3G Swiss Senior Open
A34: 1868 | B34: Vergère Pascal | C34: 3076 | D34: 18 | E34: 170.89 | F34: Vidy | G34: Extérieur | H34: 26.08.-01.09.19 | I34: 1st 900 Global 3G Swiss Senior Open
... A52: 1869 | B52: Vergère Patricia | C52: 1338 | D52: 8 | E52: 167.25 | F52: Echandens | G52: Extérieur | H52: 10-13.10.2019 | I52: 20ème National Doublette LS 19
A53: 1819 | B53: Aries Claudia | C53: 4626 | D53: 27 | E53: 171.33 | F53: La Praille | G53: Genève | H53: 43855 | I53: Champ. Genevois 2020
A54: 1739 | B54: Barbuscia Isabelle | C54: 2282 | D54: 14 | E54: 163 | F54: La Praille | G54: Genève | H54: 43855 | I54: Champ. Genevois 2020
A55: 2327 | B55: Baruh Enis | C55: 3727 | D55: 22 | E55: 169.41 | F55: La Praille | G55: Genève | H55: 43855 | I55: Champ. Genevois 2020
A56: 2804 | B56: Boccalari Jean-Marc | C56: 4798 | D56: 27 | E56: 177.7 | F56: La Praille | G56: Genève | H56: 43855 | I56: Champ. Genevois 2020
A57: 111 | B57: Bourgeois Henri | C57: 1406 | D57: 8 | E57: 175.75 | F57: La Praille | G57: Genève | H57: 43855 | I57: Champ. Genevois 2020
A58: 132 | B58: Bull Oliver | C58: 4028 | D58: 22 | E58: 183.09 | F58: La Praille | G58: Genève | H58: 43855 | I58: Champ. Genevois 2020
A59: 1002 | B59: Burri Fernand | C59: 3499 | D59: 22 | E59: 159.05 | F59: La Praille | G59: Genève | H59: 43855 | I59: Champ. Genevois 2020
A60: 138 | B60: Burri Katia | C60: 4423 | D60: 27 | E60: 163.81 | F60: La Praille | G60: Genève | H60: 43855 | I60: Champ. Genevois 2020
A61: 1474 | B61: Calzavara Bernard | C61: 3559 | D61: 22 | E61: 161.77 | F61: La Praille | G61: Genève | H61: 43855 | I61: Champ. Genevois 2020
A62: 149 | B62: Cardinaux Cédric | C62: 5029 | D62: 27 | E62: 186.26 | F62: La Praille | G62: Genève | H62: 43855 | I62: Champ. Genevois 2020
A63: 151 | B63: Cardinaux Pierre-Alain | C63: 1140 | D63: 6 | E63: 190 | F63: La Praille | G63: Genève | H63: 43855 | I63: Champ. Genevois 2020
A64: 2138 | B64: Carolino Romulo | C64: 4934 | D64: 27 | E64: 182.74 | F64: La Praille | G64: Genève | H64: 43855 | I64: Champ. Genevois 2020
... A128: 541 | B128: Rodrigues Vanessa | C128: 4828 | D128: 27 | E128: 178.81 | F128: La Praille | G128: Genève | H128: 43855 | I128: Champ. Genevois 2020
A129: 721 | B129: Ronchi Jacques | C129: 3715 | D129: 22 | E129: 168.86 | F129: La Praille | G129: Genève | H129: 43855 | I129: Champ. Genevois 2020 | L129: =VLOOKUP(B130,#REF!,2) -> #REF!
A130: 2455 | B130: Rosa Pedro | C130: 3576 | D130: 22 | E130: 162.55 | F130: La Praille | G130: Genève | H130: 43855 | I130: Champ. Genevois 2020
A131: 2456 | B131: Rosset Franck | C131: 5104 | D131: 27 | E131: 189.04 | F131: La Praille | G131: Genève | H131: 43855 | I131: Champ. Genevois 2020
A132: 1464 | B132: Ruegg Pellarin Anne-Marie | C132: 2801 | D132: 22 | E132: 127.32 | F132: La Praille | G132: Genève | H132: 43855 | I132: Champ. Genevois 2020
A133: 2295 | B133: Serrano Ronaldo | C133: 2485 | D133: 16 | E133: 155.31 | F133: La Praille | G133: Genève | H133: 43855 | I133: Champ. Genevois 2020
A134: 790 | B134: Seydoux Pascal | C134: 5006 | D134: 27 | E134: 185.41 | F134: La Praille | G134: Genève | H134: 43855 | I134: Champ. Genevois 2020
A135: 1381 | B135: Stutz René | C135: 3864 | D135: 22 | E135: 175.64 | F135: La Praille | G135: Genève | H135: 43855 | I135: Champ. Genevois 2020
A136: 1467 | B136: Terrettaz Janique | C136: 3328 | D136: 22 | E136: 151.27 | F136: La Praille | G136: Genève | H136: 43855 | I136: Champ. Genevois 2020
A137: 2596 | B137: Terrettaz Joey | C137: 3276 | D137: 22 | E137: 148.91 | F137: La Praille | G137: Genève | H137: 43855 | I137: Champ. Genevois 2020
A138: 2775 | B138: Thomet Adrien | C138: 2261 | D138: 16 | E138: 141.31 | F138: La Praille | G138: Genève | H138: 43855 | I138: Champ. Genevois 2020
A139: 856 | B139: Tissot Yvette | C139: 1168 | D139: 8 | E139: 146 | F139: La Praille | G139: Genève | H139: 43855 | I139: Champ. Genevois 2020
A140: 1868 | B140: Vergère Pascal | C140: 4008 | D140: 22 | E140: 182.18 | F140: La Praille | G140: Genève | H140: 43855 | I140: Champ. Genevois 2020
A141: 1869 | B141: Vergère Patricia | C141: 4262 | D141: 27 | E141: 157.85 | F141: La Praille | G141: Genève | H141: 43855 | I141: Champ. Genevois 2020
... A143: 1757 | B143: Zbinden Ruth | C143: 3410 | D143: 22 | E143: 155 | F143: La Praille | G143: Genève | H143: 43855 | I143: Champ. Genevois 2020
A144: 1819 | B144: Aries Claudia | C144: 983 | D144: 6 | E144: 163,83 | F144: La Praille | G144: Genève | H144: 43844 | I144: Champ. Genevois Mixte 2020
A145: 2220 | B145: Chavaz Didier | C145: 1215 | D145: 6 | E145: 202,50 | F145: La Praille | G145: Genève | H145: 43844 | I145: Champ. Genevois Mixte 2020
A146: 181 | B146: Company Joëlle | C146: 1075 | D146: 6 | E146: 179,17 | F146: La Praille | G146: Genève | H146: 43844 | I146: Champ. Genevois Mixte 2020
A147: 189 | B147: Corbo Pierre | C147: 1102 | D147: 6 | E147: 183,67 | F147: La Praille | G147: Genève | H147: 43844 | I147: Champ. Genevois Mixte 2020
A148: 210 | B148: D'Apice Vincenzo | C148: 1027 | D148: 6 | E148: 171,17 | F148: La Praille | G148: Genève | H148: 43844 | I148: Champ. Genevois Mixte 2020
A149: 2474 | B149: Despres Marylène | C149: 733 | D149: 6 | E149: 122,17 | F149: La Praille | G149: Genève | H149: 43844 | I149: Champ. Genevois Mixte 2020
A150: 228 | B150: Dilsuk Linda | C150: 991 | D150: 6 | E150: 165,17 | F150: La Praille | G150: Genève | H150: 43844 | I150: Champ. Genevois Mixte 2020
A151: 272 | B151: Flores Alfredo | C151: 937 | D151: 6 | E151: 156,17 | F151: La Praille | G151: Genève | H151: 43844 | I151: Champ. Genevois Mixte 2020
A152: 290 | B152: Gabriel Eric | C152: 1194 | D152: 6 | E152: 199,00 | F152: La Praille | G152: Genève | H152: 43844 | I152: Champ. Genevois Mixte 2020
A153: 236 | B153: Gamboa dos Santos David | C153: 1209 | D153: 6 | E153: 201,50 | F153: La Praille | G153: Genève | H153: 43844 | I153: Champ. Genevois Mixte 2020
A154: 323 | B154: Golay Daniel | C154: 1056 | D154: 6 | E154: 176,00 | F154: La Praille | G154: Genève | H154: 43844 | I154: Champ. Genevois Mixte 2020
A155: 1172 | B155: Grosrey Krystel | C155: 1070 | D155: 6 | E155: 178,33 | F155: La Praille | G155: Genève | H155: 43844 | I155: Champ. Genevois Mixte 2020
... A162: 2222 | B162: Louvrier Philippe | C162: 973 | D162: 6 | E162: 162,17 | F162: La Praille | G162: Genève | H162: 43844 | I162: Champ. Genevois Mixte 2020
A163: 1301 | B163: Martin José | C163: 973 | D163: 6 | E163: 162,17 | F163: La Praille | G163: Genève | H163: 43844 | I163: Champ. Genevois Mixte 2020 | L163: =VLOOKUP(B164,#REF!,2) -> #REF!
A164: 540 | B164: Martinez Mary-Claude | C164: 1027 | D164: 6 | E164: 171,17 | F164: La Praille | G164: Genève | H164: 43844 | I164: Champ. Genevois Mixte 2020
A165: 568 | B165: Mermoud Alex | C165: 949 | D165: 6 | E165: 158,17 | F165: La Praille | G165: Genève | H165: 43844 | I165: Champ. Genevois Mixte 2020
A166: 1825 | B166: Morales Serrano Eduardo | C166: 1052 | D166: 6 | E166: 175,33 | F166: La Praille | G166: Genève | H166: 43844 | I166: Champ. Genevois Mixte 2020
A167: 327 | B167: Morand Marie-Noëlle | C167: 1043 | D167: 6 | E167: 173,83 | F167: La Praille | G167: Genève | H167: 43844 | I167: Champ. Genevois Mixte 2020
A168: 1763 | B168: Moyat Magali | C168: 1064 | D168: 6 | E168: 177,33 | F168: La Praille | G168: Genève | H168: 43844 | I168: Champ. Genevois Mixte 2020
A169: 633 | B169: Pakosz Cécile | C169: 1048 | D169: 6 | E169: 174,67 | F169: La Praille | G169: Genève | H169: 43844 | I169: Champ. Genevois Mixte 2020
A170: 13065 | B170: Paras Marife | C170: 896 | D170: 6 | E170: 149,33 | F170: La Praille | G170: Genève | H170: 43844 | I170: Champ. Genevois Mixte 2020
A171: 2631 | B171: Pellein Gwendoline | C171: 923 | D171: 6 | E171: 153,83 | F171: La Praille | G171: Genève | H171: 43844 | I171: Champ. Genevois Mixte 2020
A172: 1377 | B172: Pellein Stéphane | C172: 1144 | D172: 6 | E172: 190,67 | F172: La Praille | G172: Genève | H172: 43844 | I172: Champ. Genevois Mixte 2020
A173: 656 | B173: Perito Pascal | C173: 1214 | D173: 6 | E173: 202,33 | F173: La Praille | G173: Genève | H173: 43844 | I173: Champ. Genevois Mixte 2020
A174: 1378 | B174: Roagna Gilles-Eric | C174: 987 | D174: 6 | E174: 164,50 | F174: La Praille | G174: Genève | H174: 43844 | I174: Champ. Genevois Mixte 2020
A175: 2455 | B175: Rosa Pedro | C175: 1056 | D175: 6 | E175: 176,00 | F175: La Praille | G175: Genève | H175: 43844 | I175: Champ. Genevois Mixte 2020
... A182: 1757 | B182: Zbinden Ruth | C182: 865 | D182: 6 | E182: 144,17 | F182: La Praille | G182: Genève | H182: 43844 | I182: Champ. Genevois Mixte 2020
A183: 1819 | B183: Aries Claudia | C183: 1302 | D183: 8 | E183: 162.75 | F183: Echandens | G183: Extérieur | H183: 16-17.11.2019 | I183: Champ. Suisse Seniors 2020
A184: 48 | B184: Barbezat Francis | C184: 1476 | D184: 8 | E184: 184.5 | F184: Echandens | G184: Extérieur | H184: 16-17.11.2019 | I184: Champ. Suisse Seniors 2020
A185: 1739 | B185: Barbuscia Isabelle | C185: 1248 | D185: 8 | E185: 156 | F185: Echandens | G185: Extérieur | H185: 16-17.11.2019 | I185: Champ. Suisse Seniors 2020
A186: 2804 | B186: Boccalari Jean-Marc | C186: 1246 | D186: 8 | E186: 155.75 | F186: Echandens | G186: Extérieur | H186: 16-17.11.2019 | I186: Champ. Suisse Seniors 2020
A187: 151 | B187: Cardinaux Pierre-Alain | C187: 1429 | D187: 8 | E187: 178.63 | F187: Echandens | G187: Extérieur | H187: 16-17.11.2019 | I187: Champ. Suisse Seniors 2020
A188: 1782 | B188: Champagne Marc | C188: 1351 | D188: 8 | E188: 168.88 | F188: Echandens | G188: Extérieur | H188: 16-17.11.2019 | I188: Champ. Suisse Seniors 2020
A189: 1210 | B189: Chappuis Bernard | C189: 1380 | D189: 8 | E189: 172.5 | F189: Echandens | G189: Extérieur | H189: 16-17.11.2019 | I189: Champ. Suisse Seniors 2020
A190: 210 | B190: D'Apice Vincenzo | C190: 1332 | D190: 8 | E190: 166.5 | F190: Echandens | G190: Extérieur | H190: 16-17.11.2019 | I190: Champ. Suisse Seniors 2020
A191: 228 | B191: Dilsuk Linda | C191: 1082 | D191: 8 | E191: 135.25 | F191: Echandens | G191: Extérieur | H191: 16-17.11.2019 | I191: Champ. Suisse Seniors 2020
A192: 2790 | B192: Faller Noraida | C192: 1297 | D192: 8 | E192: 162.13 | F192: Echandens | G192: Extérieur | H192: 16-17.11.2019 | I192: Champ. Suisse Seniors 2020
A193: 272 | B193: Flores Alfredo | C193: 1269 | D193: 8 | E193: 158.63 | F193: Echandens | G193: Extérieur | H193: 16-17.11.2019 | I193: Champ. Suisse Seniors 2020
A194: 290 | B194: Gabriel Eric | C194: 2271 | D194: 12 | E194: 189.25 | F194: Echandens | G194: Extérieur | H194: 16-17.11.2019 | I194: Champ. Suisse Seniors 2020
... A217: 1869 | B217: Vergère Patricia | C217: 1899 | D217: 12 | E217: 158.25 | F217: Echandens | G217: Extérieur | H217: 16-17.11.2019 | I217: Champ. Suisse Seniors 2020
A218: 541 | B218: Rodrigues Vanessa | C218: 2897 | D218: 16 | E218: =SUM(C218/D218) -> 181.0625 | F218: Ankara | G218: Extérieur | H218: 43815 | I218: ECC 2019 Ankara
A219: 2220 | B219: Chavaz Didier | C219: 2909 | D219: 16 | E219: 181.81 | F219: Vidy | G219: Extérieur | H219: 03-09.02.2020 | I219: Inter de Vidy by Storm 2020
A220: 2822 | B220: Cataldo Wiliam | C220: 2011 | D220: 12 | E220: 167.58333 | F220: Vidy | G220: Extérieur | H220: 03-09.02.2020 | I220: Inter de Vidy by Storm 2020
A221: 2634 | B221: Franco Jonani | C221: 3711 | D221: 19 | E221: 195.32 | F221: Vidy | G221: Extérieur | H221: 03-09.02.2020 | I221: Inter de Vidy by Storm 2020
...

Sheet Individuels 19-21 (2)
A1: Noms | B1: (Tous) | D1: No licence | E1: =VLOOKUP(B1,[2]noms!A2:E118,2) -> #N/A
A2: Au 01.07.2021 | B2: HDC | C2: =VLOOKUP(B1,[2]noms!A2:E118,3) -> #N/A | D2: CAT | E2: =VLOOKUP(B1,[2]noms!A2:E119,4) -> #N/A
B3: Étiquettes de colonnes
A4: Étiquettes de lignes | B4: Extérieur | C4: Genève | D4: Ligue | E4: Total général
A5: 1/2 finales suisse individuels 2020
A6: Somme de Quilles | B6: 31944 | E6: 31944
A7: Somme de Parties | B7: 180 | E7: 180
A8: Somme de Moyennes | B8: 177.46667 | C8: #DIV/0! | D8: #DIV/0! | E8: 177.46667
A9: 19 BC Strangers Doppel
A10: Somme de Quilles | B10: 4229 | E10: 4229
A11: Somme de Parties | B11: 24 | E11: 24
A12: Somme de Moyennes | B12: 176.20833 | C12: #DIV/0! | D12: #DIV/0! | E12: 176.20833
A13: 1st 900 Global 3G Swiss Senior Open
A14: Somme de Quilles | B14: 34944 | E14: 34944
A15: Somme de Parties | B15: 203 | E15: 203
A16: Somme de Moyennes | B16: 172.13793 | C16: #DIV/0! | D16: #DIV/0! | E16: 172.13793
A17: 20 BC Strangers Doppel
A18: Somme de Quilles | B18: 4422 | E18: 4422
A19: Somme de Parties | B19: 24 | E19: 24
A20: Somme de Moyennes | B20: 184.25 | C20: #DIV/0! | D20: #DIV/0! | E20: 184.25
A21: 20ème National Doublette LS 19
A22: Somme de Quilles | B22: 31476 | E22: 31476
A23: Somme de Parties | B23: 171 | E23: 171
A24: Somme de Moyennes | B24: 184.07018 | C24: #DIV/0! | D24: #DIV/0! | E24: 184.07018
A25: Ch. Suisse indi. DA 2020
A26: Somme de Quilles | B26: 3210 | E26: 3210
A27: Somme de Parties | B27: 18 | E27: 18
A28: Somme de Moyennes | B28: 178.33333 | C28: #DIV/0! | D28: #DIV/0! | E28: 178.33333
A29: Ch. Suisse indi. DB 2020
A30: Somme de Quilles | B30: 5747 | E30: 5747
A31: Somme de Parties | B31: 36 | E31: 36
A32: Somme de Moyennes | B32: 159.63889 | C32: #DIV/0! | D32: #DIV/0! | E32: 159.63889
A33: Ch. Suisse indi. HA 2020
A34: Somme de Quilles | B34: 3161 | E34: 3161
A35: Somme de Parties | B35: 18 | E35: 18
A36: Somme de Moyennes | B36: 175.61111 | C36: #DIV/0! | D36: #DIV/0! | E36: 175.61111
A37: Ch. Suisse indi. HB 2020
A38: Somme de Quilles | B38: 1514 | E38: 1514
A39: Somme de Parties | B39: 9 | E39: 9
A40: Somme de Moyennes | B40: 168.22222 | C40: #DIV/0! | D40: #DIV/0! | E40: 168.22222
A41: Ch. Suisse indi. HC 2020
A42: Somme de Quilles | B42: 1460 | E42: 1460
A43: Somme de Parties | B43: 9 | E43: 9
A44: Somme de Moyennes | B44: 162.22222 | C44: #DIV/0! | D44: #DIV/0! | E44: 162.22222
A45: Ch. Suisse juniors 2020
A46: Somme de Quilles | B46: 2826 | E46: 2826
A47: Somme de Parties | B47: 19 | E47: 19
A48: Somme de Moyennes | B48: 148.73684 | C48: #DIV/0! | D48: #DIV/0! | E48: 148.73684
A49: Ch. Suisse juniors 2021
A50: Somme de Quilles | B50: 1162 | E50: 1162
A51: Somme de Parties | B51: 8 | E51: 8
A52: Somme de Moyennes | B52: 145.25 | C52: #DIV/0! | D52: #DIV/0! | E52: 145.25
A53: Ch. Suisse Seniors 21
A54: Somme de Quilles | B54: 26872 | E54: 26872
A55: Somme de Parties | B55: 163 | E55: 163
A56: Somme de Moyennes | B56: 164.8589 | C56: #DIV/0! | D56: #DIV/0! | E56: 164.8589
A57: Chal Louis Pari 2020
A58: Somme de Quilles | B58: 1056 | E58: 1056
A59: Somme de Parties | B59: 6 | E59: 6
A60: Somme de Moyennes | B60: 176 | C60: #DIV/0! | D60: #DIV/0! | E60: 176
A61: Champ. Genevois 2020
A62: Somme de Quilles | C62: 319172 | E62: 319172
A63: Somme de Parties | C63: 1887 | E63: 1887
A64: Somme de Moyennes | B64: #DIV/0! | C64: 169.14255 | D64: #DIV/0! | E64: 169.14255
A65: Champ. Genevois Mixte 2020
A66: Somme de Quilles | C66: 39717 | E66: 39717
A67: Somme de Parties | C67: 234 | E67: 234
A68: Somme de Moyennes | B68: #DIV/0! | C68: 169.73077 | D68: #DIV/0! | E68: 169.73077
A69: Champ. Suisse Seniors 2020
A70: Somme de Quilles | B70: 55251 | E70: 55251
A71: Somme de Parties | B71: 328 | E71: 328
A72: Somme de Moyennes | B72: 168.44817 | C72: #DIV/0! | D72: #DIV/0! | E72: 168.44817
A73: Doublettes LS 2020
A74: Somme de Quilles | B74: 26922 | E74: 26922
A75: Somme de Parties | B75: 156 | E75: 156
A76: Somme de Moyennes | B76: 172.57692 | C76: #DIV/0! | D76: #DIV/0! | E76: 172.57692
A77: ECC 2019 Ankara
A78: Somme de Quilles | B78: 2897 | E78: 2897
A79: Somme de Parties | B79: 16 | E79: 16
A80: Somme de Moyennes | B80: 181.0625 | C80: #DIV/0! | D80: #DIV/0! | E80: 181.0625
A81: Inter de Vidy by Storm 2020
A82: Somme de Quilles | B82: 15033 | E82: 15033
A83: Somme de Parties | B83: 83 | E83: 83
A84: Somme de Moyennes | B84: 181.12048 | C84: #DIV/0! | D84: #DIV/0! | E84: 181.12048
A85: Le Solitaire 2019
A86: Somme de Quilles | C86: 135300 | E86: 135300
A87: Somme de Parties | C87: 784 | E87: 784
A88: Somme de Moyennes | B88: #DIV/0! | C88: 172.57653 | D88: #DIV/0! | E88: 172.57653
A89: Le Solitaire 2020
A90: Somme de Quilles | C90: 39399 | E90: 39399
A91: Somme de Parties | C91: 222 | E91: 222
A92: Somme de Moyennes | B92: #DIV/0! | C92: 177.47297 | D92: #DIV/0! | E92: 177.47297
A93: Le Solitaire 2020-2
A94: Somme de Quilles | C94: 47616 | E94: 47616
A95: Somme de Parties | C95: 276 | E95: 276
A96: Somme de Moyennes | B96: #DIV/0! | C96: 172.52174 | D96: #DIV/0! | E96: 172.52174
A97: Ligue inter 19
A98: Somme de Quilles | D98: 234581 | E98: 234581
A99: Somme de Parties | D99: 1371 | E99: 1371
A100: Somme de Moyennes | B100: #DIV/0! | C100: #DIV/0! | D100: 171.10212 | E100: 171.10212
...

Sheet Compétitions-ligues (2)
A1: No CH | B1: Noms | C1: Quilles | D1: Parties | E1: Moyenne | F1: Lieu | G1: Competition | H1: date | I1: Tournoi
A2: 1522 | B2: Aliten Bartolome | C2: 2131 | D2: 12 | E2: 177.58 | F2: Vidy | G2: Extérieur | H2: 26.08.-01.09.19 | I2: 1st 900 Global 3G Swiss Senior Open
A3: 1522 | B3: Aliten Bartolome | C3: 1705 | D3: 8 | E3: 213.13 | F3: Echandens | G3: Extérieur | H3: 10-13.10.2019 | I3: 20ème National Doublette LS 19
A4: 1522 | B4: Aliten Bartolome | C4: 4700 | D4: 24 | E4: 195.83 | F4: La Praille | G4: Genève | H4: 43807 | I4: Le Solitaire 2019
A5: 1522 | B5: Aliten Bartolome | C5: 1168 | D5: 6 | E5: 194.66667 | F5: La Praille | G5: Genève | H5: 43921 | I5: Le Solitaire 2020
A6: 1522 | B6: Aliten Bartolome | C6: 507 | D6: 3 | E6: 169 | F6: Balexert | G6: Ligue | H6: 43815 | I6: Ligue inter 19
A7: 1522 | B7: Aliten Bartolome | C7: 671 | D7: 3 | E7: 223.66667 | F7: Balexert | G7: Ligue | H7: 43921 | I7: Ligue inter 2020
A8: 1522 | B8: Aliten Bartolome | C8: 9770 | D8: 52 | E8: 187.88 | F8: La Praille | G8: Ligue | H8: 43803 | I8: Ligue SGB 2019
A9: 1522 | B9: Aliten Bartolome | C9: 4757 | D9: 24 | E9: 198,21 | F9: La Praille | G9: Ligue | H9: 43921 | I9: Ligue SGB 2020
A10: 1522 | B10: Aliten Bartolome | C10: 2342 | D10: 12 | E10: 195.17 | F10: Echandens | G10: Extérieur | H10: 03-08.03.2020 | I10: Low Cost 2020
A11: 1522 | B11: Aliten Bartolome | C11: 3670 | D11: 18 | E11: 203.89 | F11: Martigny | G11: Extérieur | H11: 30.11-1.12.2019 | I11: Triplette de Noël 2019
A12: 1522 | B12: Aliten Bartolome | C12: 588 | D12: 3 | E12: 196 | F12: The Balexert | G12: Ligue | H12: 44116 | I12: Ligue Inter 2020-2
A13: 1522 | B13: Aliten Bartolome | C13: 4440 | D13: 24 | E13: 185 | F13: La Praille | G13: Ligue | H13: 44118 | I13: Ligue SGB 2020-2
B14: Total Aliten Bartolome | C14: =SUBTOTAL(9,C2:C13) -> 36449 | D14: =SUBTOTAL(9,D2:D13) -> 189 | E14: =SUM(C14/D14) -> 192.85185 | I14: =SUBTOTAL(9,I2:I13) -> 0
A15: 1819 | B15: Aries Claudia | C15: 1282 | D15: 8 | E15: 160,25 | F15: Vidy | G15: Extérieur | H15: 43883 | I15: 1/2 finales suisse individuels 2020
A16: 1819 | B16: Aries Claudia | C16: 1386 | D16: 8 | E16: 173.25 | F16: Echandens | G16: Extérieur | H16: 10-13.10.2019 | I16: 20ème National Doublette LS 19
A17: 1819 | B17: Aries Claudia | C17: 4626 | D17: 27 | E17: 171.33 | F17: La Praille | G17: Genève | H17: 43855 | I17: Champ. Genevois 2020
A18: 1819 | B18: Aries Claudia | C18: 983 | D18: 6 | E18: 163,83 | F18: La Praille | G18: Genève | H18: 43844 | I18: Champ. Genevois Mixte 2020
A19: 1819 | B19: Aries Claudia | C19: 1302 | D19: 8 | E19: 162.75 | F19: Echandens | G19: Extérieur | H19: 16-17.11.2019 | I19: Champ. Suisse Seniors 2020
A20: 1819 | B20: Aries Claudia | C20: 3638 | D20: 24 | E20: 151.58 | F20: Balexert | G20: Ligue | H20: 43815 | I20: Ligue inter 19
A21: 1819 | B21: Aries Claudia | C21: 2462 | D21: 15 | E21: 164.13333 | F21: Balexert | G21: Ligue | H21: 43921 | I21: Ligue inter 2020
A22: 1819 | B22: Aries Claudia | C22: 4467 | D22: 28 | E22: 159.54 | F22: La Praille | G22: Ligue | H22: 43803 | I22: Ligue SGB 2019
A23: 1819 | B23: Aries Claudia | C23: 3395 | D23: 20 | E23: 169,75 | F23: La Praille | G23: Ligue | H23: 43921 | I23: Ligue SGB 2020
A24: 1819 | B24: Aries Claudia | C24: 3079 | D24: 18 | E24: 171.06 | F24: Echandens | G24: Extérieur | H24: 03-08.03.2020 | I24: Low Cost 2020
A25: 1819 | B25: Aries Claudia | C25: 2414 | D25: 15 | E25: 160,93 | F25: Vidy | G25: Extérieur | H25: 30.10-03.11.2019 | I25: Open du Lac 2019
A26: 1819 | B26: Aries Claudia | C26: 1389 | D26: 8 | E26: 173,63 | F26: Vidy | G26: Extérieur | H26: 43862 | I26: Qualif régional DA-DB-HA 20
A27: 1819 | B27: Aries Claudia | C27: 1139 | D27: 8 | E27: =SUM(C27/D27) -> 142.375 | F27: La Praille | G27: Genève | H27: 19-20.06.2021 | I27: Qualif régional Individuels 2021
A28: 1819 | B28: Aries Claudia | C28: 1333 | D28: 9 | E28: 148.11 | F28: Rumikon | G28: Extérieur | H28: 44093 | I28: Ch. Suisse indi. DB 2020
A29: 1819 | B29: Aries Claudia | C29: 2306 | D29: 14 | E29: 164.71 | F29: Echandens | G29: Extérieur | H29: 1-4.10.2020 | I29: Doublettes LS 2020
A30: 1819 | B30: Aries Claudia | C30: 2320 | D30: 15 | E30: 154.67 | F30: The Balexert | G30: Ligue | H30: 44116 | I30: Ligue Inter 2020-2
A31: 1819 | B31: Aries Claudia | C31: 2005 | D31: 12 | E31: 167.08 | F31: La Praille | G31: Ligue | H31: 44118 | I31: Ligue SGB 2020-2
B32: Total Aries Claudia | C32: =SUBTOTAL(9,C15:C31) -> 39526 | D32: =SUBTOTAL(9,D15:D31) -> 243 | E32: =SUM(C32/D32) -> 162.65844 | I32: =SUBTOTAL(9,I15:I31) -> 0
A33: 13064 | B33: Aseron Roldan | C33: 8148 | D33: 52 | E33: 156.69 | F33: La Praille | G33: Ligue | H33: 43803 | I33: Ligue SGB 2019
B34: Total Aseron Roldan | C34: =SUBTOTAL(9,C33:C33) -> 8148 | D34: =SUBTOTAL(9,D33:D33) -> 52 | E34: =SUM(C34/D34) -> 156.69231 | I34: =SUBTOTAL(9,I33:I33) -> 0
A35: 48 | B35: Barbezat Francis | C35: 1476 | D35: 8 | E35: 184.5 | F35: Echandens | G35: Extérieur | H35: 16-17.11.2019 | I35: Champ. Suisse Seniors 2020
A36: 48 | B36: Barbezat Francis | C36: 4010 | D36: 21 | E36: 190.95 | F36: Balexert | G36: Ligue | H36: 43815 | I36: Ligue inter 19
A37: 48 | B37: Barbezat Francis | C37: 1008 | D37: 6 | E37: 168 | F37: Balexert | G37: Ligue | H37: 43921 | I37: Ligue inter 2020
A38: 48 | B38: Barbezat Francis | C38: 2009 | D38: 12 | E38: 167.42 | F38: Echandens | G38: Extérieur | H38: 21-22.09.2019 | I38: Team Events 2019
B39: Total Barbezat Francis | C39: =SUBTOTAL(9,C35:C38) -> 8503 | D39: =SUBTOTAL(9,D35:D38) -> 47 | E39: =SUM(C39/D39) -> 180.91489 | I39: =SUBTOTAL(9,I35:I38) -> 0
A40: 1739 | B40: Barbuscia Isabelle | C40: 2282 | D40: 14 | E40: 163 | F40: La Praille | G40: Genève | H40: 43855 | I40: Champ. Genevois 2020
A41: 1739 | B41: Barbuscia Isabelle | C41: 1248 | D41: 8 | E41: 156 | F41: Echandens | G41: Extérieur | H41: 16-17.11.2019 | I41: Champ. Suisse Seniors 2020
A42: 1739 | B42: Barbuscia Isabelle | C42: 921 | D42: 6 | E42: 153.5 | F42: La Praille | G42: Genève | H42: 43807 | I42: Le Solitaire 2019
B43: Total Barbuscia Isabelle | C43: =SUBTOTAL(9,C40:C42) -> 4451 | D43: =SUBTOTAL(9,D40:D42) -> 28 | E43: =SUM(C43/D43) -> 158.96429 | I43: =SUBTOTAL(9,I40:I42) -> 0
A44: 2327 | B44: Baruh Enis | C44: 3727 | D44: 22 | E44: 169.41 | F44: La Praille | G44: Genève | H44: 43855 | I44: Champ. Genevois 2020
A45: 2327 | B45: Baruh Enis | C45: 688 | D45: 4 | E45: 172 | F45: La Praille | G45: Ligue | H45: 43803 | I45: Ligue SGB 2019
A46: 2327 | B46: Baruh Enis | C46: 1373 | D46: 8 | E46: 171,63 | F46: Echandens | G46: Extérieur | H46: 43862 | I46: Qualif régional HB-HC 2020
A47: 2327 | B47: Baruh Enis | C47: 1137 | D47: 6 | E47: 189.5 | F47: La Praille | G47: Genève | H47: 43715 | I47: Qualif Lg Nationale romande 19
A48: 2327 | B48: Baruh Enis | C48: 1369 | D48: 8 | E48: =SUM(C48/D48) -> 171.125 | F48: La Praille | G48: Genève | H48: 19-20.06.2021 | I48: Qualif régional Individuels 2021
B49: Total Baruh Enis | C49: =SUBTOTAL(9,C44:C48) -> 8294 | D49: =SUBTOTAL(9,D44:D48) -> 48 | E49: =SUM(C49/D49) -> 172.79167 | I49: =SUBTOTAL(9,I44:I48) -> 0
A50: 236 | B50: Blacas David | C50: 1080 | D50: 6 | E50: 180 | F50: The Balexert | G50: Ligue | H50: 44116 | I50: Ligue Inter 2020-2
A51: 236 | B51: Gamboa dos Santos David | C51: 1209 | D51: 6 | E51: 201,50 | F51: La Praille | G51: Genève | H51: 43844 | I51: Champ. Genevois Mixte 2020
A52: 236 | B52: Gamboa dos Santos David | C52: 6224 | D52: 33 | E52: 188.61 | F52: Balexert | G52: Ligue | H52: 43815 | I52: Ligue inter 19
A53: 236 | B53: Gamboa dos Santos David | C53: 2290 | D53: 12 | E53: 190.83333 | F53: Balexert | G53: Ligue | H53: 43921 | I53: Ligue inter 2020
A54: 236 | B54: Gamboa dos Santos David | C54: 2694 | D54: 15 | E54: 179.6 | F54: Echandens | G54: Extérieur | H54: 21-22.09.2019 | I54: Team Events 2019
B55: Total Blacas David | C55: =SUBTOTAL(9,C50:C54) -> 13497 | D55: =SUBTOTAL(9,D50:D54) -> 72 | E55: =SUM(C55/D55) -> 187.45833 | I55: =SUBTOTAL(9,I50:I50) -> 0
A56: 2804 | B56: Boccalari Jean-Marc | C56: 1304 | D56: 8 | E56: 163,00 | F56: Vidy | G56: Extérieur | H56: 43883 | I56: 1/2 finales suisse individuels 2020
A57: 2804 | B57: Boccalari Jean-Marc | C57: 4798 | D57: 27 | E57: 177.7 | F57: La Praille | G57: Genève | H57: 43855 | I57: Champ. Genevois 2020
A58: 2804 | B58: Boccalari Jean-Marc | C58: 1246 | D58: 8 | E58: 155.75 | F58: Echandens | G58: Extérieur | H58: 16-17.11.2019 | I58: Champ. Suisse Seniors 2020
A59: 2804 | B59: Boccalari Jean-Marc | C59: 1953 | D59: 12 | E59: 162.75 | F59: Balexert | G59: Ligue | H59: 43815 | I59: Ligue inter 19
A60: 2804 | B60: Boccalari Jean-Marc | C60: 1590 | D60: 9 | E60: 176.66667 | F60: Balexert | G60: Ligue | H60: 43921 | I60: Ligue inter 2020
A61: 2804 | B61: Boccalari Jean-Marc | C61: 718 | D61: 4 | E61: 179,50 | F61: La Praille | G61: Ligue | H61: 43921 | I61: Ligue SGB 2020
A62: 2804 | B62: Boccalari Jean-Marc | C62: 1404 | D62: 8 | E62: 175,50 | F62: Echandens | G62: Extérieur | H62: 43862 | I62: Qualif régional HB-HC 2020
B63: Total Boccalari Jean-Marc | C63: =SUBTOTAL(9,C56:C62) -> 13013 | D63: =SUBTOTAL(9,D56:D62) -> 76 | E63: =SUM(C63/D63) -> 171.22368 | I63: =SUBTOTAL(9,I56:I62) -> 0
A64: 111 | B64: Bourgeois Henri | C64: 1406 | D64: 8 | E64: 175.75 | F64: La Praille | G64: Genève | H64: 43855 | I64: Champ. Genevois 2020
A65: 111 | B65: Bourgeois Henri | C65: 6220 | D65: 36 | E65: 172.78 | F65: La Praille | G65: Genève | H65: 43807 | I65: Le Solitaire 2019
A66: 111 | B66: Bourgeois Henri | C66: 2045 | D66: 12 | E66: 170.41667 | F66: La Praille | G66: Genève | H66: 43921 | I66: Le Solitaire 2020
A67: 111 | B67: Bourgeois Henri | C67: 973 | D67: 6 | E67: 162.17 | F67: Balexert | G67: Ligue | H67: 43815 | I67: Ligue inter 19
A68: 111 | B68: Bourgeois Henri | C68: 1966 | D68: 12 | E68: 163.83333 | F68: Balexert | G68: Ligue | H68: 43921 | I68: Ligue inter 2020
A69: 111 | B69: Bourgeois Henri | C69: 8197 | D69: 48 | E69: 170.77 | F69: La Praille | G69: Ligue | H69: 43803 | I69: Ligue SGB 2019
A70: 111 | B70: Bourgeois Henri | C70: 4070 | D70: 24 | E70: 169,58 | F70: La Praille | G70: Ligue | H70: 43921 | I70: Ligue SGB 2020
A71: 111 | B71: Bourgeois Henri | C71: 3065 | D71: 18 | E71: 170.28 | F71: The Balexert | G71: Ligue | H71: 44116 | I71: Ligue Inter 2020-2
A72: 111 | B72: Bourgeois Henri | C72: 3367 | D72: 20 | E72: 168.35 | F72: La Praille | G72: Ligue | H72: 44118 | I72: Ligue SGB 2020-2
A73: 111 | B73: Bourgeois Henri | C73: 1999 | D73: 12 | E73: 166.58 | F73: La Praille | G73: Genève | H73: 44115 | I73: Le Solitaire 2020-2
B74: Total Bourgeois Henri | C74: =SUBTOTAL(9,C64:C73) -> 33308 | D74: =SUBTOTAL(9,D64:D73) -> 196 | E74: =SUM(C74/D74) -> 169.93878 | I74: =SUBTOTAL(9,I64:I73) -> 0
A75: 123 | B75: Bravo Mario | C75: 1843 | D75: 9 | E75: 204.77778 | F75: Balexert | G75: Ligue | H75: 43921 | I75: Ligue inter 2020
A76: 123 | B76: Bravo Mario | C76: 675 | D76: 4 | E76: 168.75 | F76: La Praille | G76: Ligue | H76: 43803 | I76: Ligue SGB 2019
A77: 123 | B77: Bravo Mario | C77: 2245 | D77: 12 | E77: 187.08 | F77: The Balexert | G77: Ligue | H77: 44116 | I77: Ligue Inter 2020-2
A78: 123 | B78: Bravo Mario | C78: 3181 | D78: 16 | E78: 198.81 | F78: La Praille | G78: Ligue | H78: 44118 | I78: Ligue SGB 2020-2
B79: Total Bravo Mario | C79: =SUBTOTAL(9,C75:C78) -> 7944 | D79: =SUBTOTAL(9,D75:D78) -> 41 | E79: =SUM(C79/D79) -> 193.7561 | I79: =SUBTOTAL(9,I75:I78) -> 0
A80: 132 | B80: Bull Oliver | C80: 4028 | D80: 22 | E80: 183.09 | F80: La Praille | G80: Genève | H80: 43855 | I80: Champ. Genevois 2020
A81: 132 | B81: Bull Oliver | C81: 5900 | D81: 33 | E81: 178.79 | F81: Balexert | G81: Ligue | H81: 43815 | I81: Ligue inter 19
A82: 132 | B82: Bull Oliver | C82: 2098 | D82: 12 | E82: 174.83333 | F82: Balexert | G82: Ligue | H82: 43921 | I82: Ligue inter 2020
A83: 132 | B83: Bull Oliver | C83: 1502 | D83: 9 | E83: 166.89 | F83: The Balexert | G83: Ligue | H83: 44116 | I83: Ligue Inter 2020-2
B84: Total Bull Oliver | C84: =SUBTOTAL(9,C80:C83) -> 13528 | D84: =SUBTOTAL(9,D80:D83) -> 76 | E84: =SUM(C84/D84) -> 178 | I84: =SUBTOTAL(9,I80:I83) -> 0
A85: 1002 | B85: Burri Fernand | C85: 3499 | D85: 22 | E85: 159.05 | F85: La Praille | G85: Genève | H85: 43855 | I85: Champ. Genevois 2020
A86: 1002 | B86: Burri Fernand | C86: 1980 | D86: 12 | E86: 165 | F86: La Praille | G86: Genève | H86: 43807 | I86: Le Solitaire 2019
A87: 1002 | B87: Burri Fernand | C87: 1976 | D87: 12 | E87: 164.66667 | F87: La Praille | G87: Genève | H87: 43921 | I87: Le Solitaire 2020
A88: 1002 | B88: Burri Fernand | C88: 1298 | D88: 8 | E88: 162,25 | F88: Echandens | G88: Extérieur | H88: 43862 | I88: Qualif régional HB-HC 2020
B89: Total Burri Fernand | C89: =SUBTOTAL(9,C85:C88) -> 8753 | D89: =SUBTOTAL(9,D85:D88) -> 54 | E89: =SUM(C89/D89) -> 162.09259 | I89: =SUBTOTAL(9,I85:I88) -> 0
A90: 138 | B90: Burri Katia | C90: 4423 | D90: 27 | E90: 163.81 | F90: La Praille | G90: Genève | H90: 43855 | I90: Champ. Genevois 2020
A91: 138 | B91: Burri Katia | C91: 1823 | D91: 12 | E91: 151.92 | F91: La Praille | G91: Genève | H91: 43807 | I91: Le Solitaire 2019
A92: 138 | B92: Burri Katia | C92: 947 | D92: 6 | E92: 157.83333 | F92: La Praille | G92: Genève | H92: 43921 | I92: Le Solitaire 2020
B93: Total Burri Katia | C93: =SUBTOTAL(9,C90:C92) -> 7193 | D93: =SUBTOTAL(9,D90:D92) -> 45 | E93: =SUM(C93/D93) -> 159.84444 | I93: =SUBTOTAL(9,I90:I92) -> 0
A94: 142 | B94: Caldi Jean-Marc | C94: 4244 | D94: 24 | E94: 176.83 | F94: Balexert | G94: Ligue | H94: 43815 | I94: Ligue inter 19
A95: 142 | B95: Caldi Jean-Marc | C95: 2379 | D95: 12 | E95: 198.25 | F95: Balexert | G95: Ligue | H95: 43921 | I95: Ligue inter 2020
A96: 142 | B96: Caldi Jean-Marc | C96: 2113 | D96: 12 | E96: 176.08 | F96: The Balexert | G96: Ligue | H96: 44116 | I96: Ligue Inter 2020-2
B97: Total Caldi Jean-Marc | C97: =SUBTOTAL(9,C94:C96) -> 8736 | D97: =SUBTOTAL(9,D94:D96) -> 48 | E97: =SUM(C97/D97) -> 182 | I97: =SUBTOTAL(9,I94:I96) -> 0
A98: 1474 | B98: Calzavara Bernard | C98: 3559 | D98: 22 | E98: 161.77 | F98: La Praille | G98: Genève | H98: 43855 | I98: Champ. Genevois 2020
B99: Total Calzavara Bernard | C99: =SUBTOTAL(9,C98:C98) -> 3559 | D99: =SUBTOTAL(9,D98:D98) -> 22 | E99: =SUM(C99/D99) -> 161.77273 | I99: =SUBTOTAL(9,I98:I98) -> 0
A100: 149 | B100: Cardinaux Cédric | C100: 1448 | D100: 8 | E100: 181 | F100: Echandens | G100: Extérieur | H100: 10-13.10.2019 | I100: 20ème National Doublette LS 19
...

Sheet Lg SGB
A1: Ligue SGB 2020 | J1: Ligue SGB 2021
A3: Pos. | B3: Nom | C3: QA | D3: Parties | E3: Moy. | F3: +Score | G3: +Série | H3: Equipe du joueur | J3: Pos. | K3: Nom | L3: QA | M3: Parties | N3: Moy. | O3: +Partie | P3: +Série | Q3: Equipe du joueur
A4: 1 | B4: Aliten Bartolome | C4: 4440 | D4: 24 | E4: 185 | F4: 224 | G4: 772 | H4: Pinoy Strikers | J4: 1
A5: 2 | B5: Aries Claudia | C5: 2005 | D5: 12 | E5: 167.08 | F5: 211 | G5: 690 | H5: Les Dauphins | J5: 2
A6: 3 | B6: Bourgeois Henri | C6: 3367 | D6: 20 | E6: 168.35 | F6: 217 | G6: 726 | H6: Les Pot's | J6: 3
A7: 4 | B7: Bravo Mario | C7: 3181 | D7: 16 | E7: 198.81 | F7: 226 | G7: 890 | H7: Plattina 1 | J7: 4
A8: 5 | B8: Carolino Romulo | C8: 3821 | D8: 24 | E8: 159.21 | F8: 229 | G8: 723 | H8: Pinoy Strikers | J8: 5
A9: 6 | B9: Chavaz Didier | C9: 2925 | D9: 16 | E9: 182.81 | F9: 246 | G9: 886 | H9: Plattina 2 | J9: 6
A10: 7 | B10: Corbo Pierre | C10: 4158 | D10: 24 | E10: 173.25 | F10: 228 | G10: 754 | H10: Les Pot's | J10: 7
A11: 8 | B11: Da Silva Mario | C11: 735 | D11: 4 | E11: 183.75 | F11: 211 | G11: 735 | H11: Team Aprotec | J11: 8
A12: 9 | B12: Diaz Lopez José Manuel | C12: 1979 | D12: 12 | E12: 164.92 | F12: 186 | G12: 684 | H12: Swissmaboule | J12: 9
A13: 10 | B13: Faller Noraida | C13: 633 | D13: 4 | E13: 158.25 | F13: 170 | G13: 633 | H13: The Partners | J13: 10
A14: 11 | B14: Favre Jean-Marie | C14: 1301 | D14: 8 | E14: 162.63 | F14: 194 | G14: 709 | H14: Les Dauphins | J14: 11
A15: 12 | B15: Flores Alfredo | C15: 3339 | D15: 24 | E15: 139.13 | F15: 169 | G15: 625 | H15: The Partners | J15: 12
... A42: 39 | B42: Vergère Patricia | C42: 2551 | D42: 16 | E42: 159.44 | F42: 199 | G42: 700 | H42: League One | J42: 39
A43: 40
A44: 41
A45: 42
A46: 43
A47: 44
A48: 45
A49: 46
A50: 47
A51: 48
A52: 49
L62: =VLOOKUP(B72,noms!A2:B120,2) -> #N/A
L63: =VLOOKUP(B63,noms!A3:B121,2) -> #N/A
L64: =VLOOKUP(B74,noms!A4:B122,2) -> #N/A
L65: =VLOOKUP(B75,noms!A5:B123,2) -> #N/A
L66: =VLOOKUP(B76,noms!A6:B124,2) -> #N/A
L67: =VLOOKUP(B77,noms!A7:B125,2) -> #N/A
L68: =VLOOKUP(B78,noms!A8:B126,2) -> #N/A
L69: =VLOOKUP(B79,noms!A9:B127,2) -> #N/A
L70: =VLOOKUP(B80,noms!A10:B128,2) -> #N/A
L71: =VLOOKUP(B81,noms!A11:B129,2) -> #N/A
L72: =VLOOKUP(B82,noms!A12:B130,2) -> #N/A
L73: =VLOOKUP(B83,noms!A13:B131,2) -> #N/A
L74: =VLOOKUP(B84,noms!A14:B132,2) -> #N/A
L75: =VLOOKUP(B85,noms!A15:B133,2) -> #N/A
... L77: =VLOOKUP(B87,noms!A17:B135,2) -> #N/A
L78: =VLOOKUP(B88,noms!A17:B136,2) -> #N/A
L79: =VLOOKUP(B89,noms!A18:B137,2) -> #N/A
L80: =VLOOKUP(B90,noms!A19:B138,2) -> #N/A
L81: =VLOOKUP(B91,noms!A20:B139,2) -> #N/A
L82: =VLOOKUP(B92,noms!A21:B140,2) -> #N/A
L83: =VLOOKUP(B93,noms!A22:B141,2) -> #N/A
L84: =VLOOKUP(B94,noms!A23:B142,2) -> #N/A
L85: =VLOOKUP(B95,noms!A24:B143,2) -> #N/A
L86: =VLOOKUP(B96,noms!A25:B144,2) -> #N/A
L87: =VLOOKUP(B97,noms!A26:B145,2) -> #N/A
L88: =VLOOKUP(B98,noms!A27:B146,2) -> #N/A
L89: =VLOOKUP(B99,noms!A28:B147,2) -> #N/A
... L93: =VLOOKUP(B103,noms!A32:B151,2) -> #N/A
L94: =VLOOKUP(B104,noms!A34:B152,2) -> #N/A

Sheet Lg inter
A1: Moyenne ligue Inter 2020-2021
A2: 2020 | G2: 2021 | M2: 2020-2021
A3: Pos. | B3: Nom | C3: QA | D3: Parties | E3: Moy. | G3: Pos. | H3: Nom | I3: QA | J3: Parties | K3: Moy. | M3: Pos. | N3: Nom | O3: QA | P3: Parties | Q3: Moy.
A4: 1 | B4: Aliten Bartolome | C4: 588 | D4: 3 | E4: 196 | G4: 1 | I4: =SUM(O4-C4) -> 0 | J4: =SUM(P4-D4) -> 0 | K4: =SUM(I4/J4) -> #DIV/0! | M4: 1 | N4: Aliten Bartolome | O4: 588 | P4: 3 | Q4: 196
A5: 2 | B5: Aries Claudia | C5: 2320 | D5: 15 | E5: 154.67 | G5: 2 | I5: =SUM(O5-C5) -> 0 | J5: =SUM(P5-D5) -> 0 | K5: =SUM(I5/J5) -> #DIV/0! | M5: 2 | N5: Aries Claudia | O5: 2320 | P5: 15 | Q5: 154.67
A6: 3 | B6: Blacas David | C6: 1080 | D6: 6 | E6: 180 | G6: 3 | I6: =SUM(O6-C6) -> 0 | J6: =SUM(P6-D6) -> 0 | K6: =SUM(I6/J6) -> #DIV/0! | M6: 3 | N6: Blacas David | O6: 1080 | P6: 6 | Q6: 180
A7: 4 | B7: Bourgeois Henri | C7: 3065 | D7: 18 | E7: 170.28 | G7: 4 | I7: =SUM(O7-C7) -> 0 | J7: =SUM(P7-D7) -> 0 | K7: =SUM(I7/J7) -> #DIV/0! | M7: 4 | N7: Bourgeois Henri | O7: 3065 | P7: 18 | Q7: 170.28
A8: 5 | B8: Bravo Mario | C8: 2245 | D8: 12 | E8: 187.08 | G8: 5 | I8: =SUM(O8-C8) -> 0 | J8: =SUM(P8-D8) -> 0 | K8: =SUM(I8/J8) -> #DIV/0! | M8: 5 | N8: Bravo Mario | O8: 2245 | P8: 12 | Q8: 187.08
A9: 6 | B9: Bull Oliver | C9: 1502 | D9: 9 | E9: 166.89 | G9: 6 | I9: =SUM(O9-C9) -> 0 | J9: =SUM(P9-D9) -> 0 | K9: =SUM(I9/J9) -> #DIV/0! | M9: 6 | N9: Bull Oliver | O9: 1502 | P9: 9 | Q9: 166.89
A10: 7 | B10: Caldi Jean-Marc | C10: 2113 | D10: 12 | E10: 176.08 | G10: 7 | I10: =SUM(O10-C10) -> 0 | J10: =SUM(P10-D10) -> 0 | K10: =SUM(I10/J10) -> #DIV/0! | M10: 7 | N10: Caldi Jean-Marc | O10: 2113 | P10: 12 | Q10: 176.08
A11: 8 | B11: Carolino Romulo | C11: 2910 | D11: 18 | E11: 161.67 | G11: 8 | I11: =SUM(O11-C11) -> 0 | J11: =SUM(P11-D11) -> 0 | K11: =SUM(I11/J11) -> #DIV/0! | M11: 8 | N11: Carolino Romulo | O11: 2910 | P11: 18 | Q11: 161.67
A12: 9 | B12: Champagne Marc | C12: 2519 | D12: 15 | E12: 167.93 | G12: 9 | I12: =SUM(O12-C12) -> 0 | J12: =SUM(P12-D12) -> 0 | K12: =SUM(I12/J12) -> #DIV/0! | M12: 9 | N12: Champagne Marc | O12: 2519 | P12: 15 | Q12: 167.93
A13: 10 | B13: Chappuis Bernard | C13: 2802 | D13: 18 | E13: 155.67 | G13: 10 | I13: =SUM(O13-C13) -> 0 | J13: =SUM(P13-D13) -> 0 | K13: =SUM(I13/J13) -> #DIV/0! | M13: 10 | N13: Chappuis Bernard | O13: 2802 | P13: 18 | Q13: 155.67
A14: 11 | B14: Company Joëlle | C14: 3084 | D14: 18 | E14: 171.33 | G14: 11 | I14: =SUM(O14-C14) -> 0 | J14: =SUM(P14-D14) -> 0 | K14: =SUM(I14/J14) -> #DIV/0! | M14: 11 | N14: Company Joëlle | O14: 3084 | P14: 18 | Q14: 171.33
A15: 12 | B15: Corbo Pierre | C15: 3471 | D15: 18 | E15: 192.83 | G15: 12 | I15: =SUM(O15-C15) -> 0 | J15: =SUM(P15-D15) -> 0 | K15: =SUM(I15/J15) -> #DIV/0! | M15: 12 | N15: Corbo Pierre | O15: 3471 | P15: 18 | Q15: 192.83
... A51: 48 | B51: Wegmuller Marcel | C51: 1743 | D51: 12 | E51: 145.25 | G51: 48 | I51: =SUM(O51-C51) -> 0 | J51: =SUM(P51-D51) -> 0 | K51: =SUM(I51/J51) -> #DIV/0! | M51: 48 | N51: Wegmuller Marcel | O51: 1743 | P51: 12 | Q51: 145.25
A52: 49 | G52: 49 | I52: =SUM(O52-C52) -> 0 | J52: =SUM(P52-D52) -> 0 | K52: =SUM(I52/J52) -> #DIV/0! | M52: 49
A53: 50 | G53: 50 | I53: =SUM(O53-C53) -> 0 | J53: =SUM(P53-D53) -> 0 | K53: =SUM(I53/J53) -> #DIV/0! | M53: 50
A54: 51 | G54: 51 | I54: =SUM(O54-C54) -> 0 | J54: =SUM(P54-D54) -> 0 | K54: =SUM(I54/J54) -> #DIV/0! | M54: 51
A55: 52 | G55: 52 | I55: =SUM(O55-C55) -> 0 | J55: =SUM(P55-D55) -> 0 | K55: =SUM(I55/J55) -> #DIV/0! | M55: 52
A56: 53 | G56: 53 | I56: =SUM(O56-C56) -> 0 | J56: =SUM(P56-D56) -> 0 | K56: =SUM(I56/J56) -> #DIV/0! | M56: 53
A57: 54 | G57: 54 | I57: =SUM(O57-C57) -> 0 | J57: =SUM(P57-D57) -> 0 | K57: =SUM(I57/J57) -> #DIV/0! | M57: 54
A58: 55 | G58: 55 | I58: =SUM(O58-C58) -> 0 | J58: =SUM(P58-D58) -> 0 | K58: =SUM(I58/J58) -> #DIV/0! | M58: 55
A59: 56 | G59: 56 | I59: =SUM(O59-C59) -> 0 | J59: =SUM(P59-D59) -> 0 | K59: =SUM(I59/J59) -> #DIV/0! | M59: 56
A60: 57 | G60: 57 | I60: =SUM(O60-C60) -> 0 | J60: =SUM(P60-D60) -> 0 | K60: =SUM(I60/J60) -> #DIV/0! | M60: 57
A61: 58 | G61: 58 | I61: =SUM(O61-C61) -> 0 | J61: =SUM(P61-D61) -> 0 | K61: =SUM(I61/J61) -> #DIV/0! | M61: 58
A62: 59 | G62: 59 | I62: =SUM(O62-C62) -> 0 | J62: =SUM(P62-D62) -> 0 | K62: =SUM(I62/J62) -> #DIV/0! | M62: 59
A63: 60 | G63: 60 | I63: =SUM(O63-C63) -> 0 | J63: =SUM(P63-D63) -> 0 | K63: =SUM(I63/J63) -> #DIV/0! | M63: 60
... A72: 69 | G72: 69 | I72: =SUM(O72-C72) -> 0 | J72: =SUM(P72-D72) -> 0 | K72: =SUM(I72/J72) -> #DIV/0! | M72: 69
B75: Moyennes | C75: =SUM(C4:C74) -> 102310 | D75: =SUM(D4:D74) -> 594 | E75: =SUM(C75/D75) -> 172.23906 | H75: Moyennes | I75: =SUM(I4:I74) -> 0 | J75: =SUM(J4:J74) -> 0 | K75: =SUM(I75/J75) -> #DIV/0! | N75: Moyennes | O75: =SUM(O4:O74) -> 102310 | P75: =SUM(P4:P74) -> 594 | Q75: =SUM(O75/P75) -> 172.23906

Sheet Solitaire
A1: 2020 | G1: 2021 | M1: 2020-2021
A2: Pos. | B2: Nom | C2: QA | D2: Parties | E2: Moy. | G2: Pos. | H2: Nom | I2: QA | J2: Parties | K2: Moy. | M2: Pos. | N2: Nom | O2: QA | P2: Parties | Q2: Moy.
A3: 1 | B3: Bourgeois Henri | C3: 1999 | D3: 12 | E3: 166.58 | G3: 1 | H3: Bourgeois Henri | I3: =SUM(O3-C3) -> 0 | J3: =SUM(P3-D3) -> 0 | K3: =SUM(I3/J3) -> #DIV/0! | M3: 1 | N3: Bourgeois Henri | O3: 1999 | P3: 12 | Q3: 166.58
A4: 2 | B4: Chavaz Didier | C4: 2247 | D4: 12 | E4: 187.25 | G4: 2 | H4: Chavaz Didier | I4: =SUM(O4-C4) -> 0 | J4: =SUM(P4-D4) -> 0 | K4: =SUM(I4/J4) -> #DIV/0! | M4: 2 | N4: Chavaz Didier | O4: 2247 | P4: 12 | Q4: 187.25
A5: 3 | B5: Company Joëlle | C5: 2099 | D5: 12 | E5: 174.92 | G5: 3 | H5: Company Joëlle | I5: =SUM(O5-C5) -> 0 | J5: =SUM(P5-D5) -> 0 | K5: =SUM(I5/J5) -> #DIV/0! | M5: 3 | N5: Company Joëlle | O5: 2099 | P5: 12 | Q5: 174.92
A6: 4 | B6: Company Lucas | C6: 1080 | D6: 6 | E6: 180 | G6: 4 | H6: Company Lucas | I6: =SUM(O6-C6) -> 0 | J6: =SUM(P6-D6) -> 0 | K6: =SUM(I6/J6) -> #DIV/0! | M6: 4 | N6: Company Lucas | O6: 1080 | P6: 6 | Q6: 180
A7: 5 | B7: Corbo Pierre | C7: 2133 | D7: 12 | E7: 177.75 | G7: 5 | H7: Corbo Pierre | I7: =SUM(O7-C7) -> 0 | J7: =SUM(P7-D7) -> 0 | K7: =SUM(I7/J7) -> #DIV/0! | M7: 5 | N7: Corbo Pierre | O7: 2133 | P7: 12 | Q7: 177.75
A8: 6 | B8: D'Apice Vincenzo | C8: 2166 | D8: 12 | E8: 180.5 | G8: 6 | H8: D'Apice Vincenzo | I8: =SUM(O8-C8) -> 0 | J8: =SUM(P8-D8) -> 0 | K8: =SUM(I8/J8) -> #DIV/0! | M8: 6 | N8: D'Apice Vincenzo | O8: 2166 | P8: 12 | Q8: 180.5
A9: 7 | B9: Dupenloup Franck | C9: 1133 | D9: 6 | E9: 188.83 | G9: 7 | H9: Dupenloup Franck | I9: =SUM(O9-C9) -> 0 | J9: =SUM(P9-D9) -> 0 | K9: =SUM(I9/J9) -> #DIV/0! | M9: 7 | N9: Dupenloup Franck | O9: 1133 | P9: 6 | Q9: 188.83
A10: 8 | B10: Faller Neza | C10: 942 | D10: 6 | E10: 157 | G10: 8 | H10: Faller Neza | I10: =SUM(O10-C10) -> 0 | J10: =SUM(P10-D10) -> 0 | K10: =SUM(I10/J10) -> #DIV/0! | M10: 8 | N10: Faller Neza | O10: 942 | P10: 6 | Q10: 157
A11: 9 | B11: Faller Noraida | C11: 2058 | D11: 12 | E11: 171.5 | G11: 9 | H11: Faller Noraida | I11: =SUM(O11-C11) -> 0 | J11: =SUM(P11-D11) -> 0 | K11: =SUM(I11/J11) -> #DIV/0! | M11: 9 | N11: Faller Noraida | O11: 2058 | P11: 12 | Q11: 171.5
A12: 10 | B12: Gabriel Eric | C12: 2203 | D12: 12 | E12: 183.58 | G12: 10 | H12: Gabriel Eric | I12: =SUM(O12-C12) -> 0 | J12: =SUM(P12-D12) -> 0 | K12: =SUM(I12/J12) -> #DIV/0! | M12: 10 | N12: Gabriel Eric | O12: 2203 | P12: 12 | Q12: 183.58
A13: 11 | B13: Golay Daniel | C13: 2134 | D13: 12 | E13: 177.83 | G13: 11 | H13: Golay Daniel | I13: =SUM(O13-C13) -> 0 | J13: =SUM(P13-D13) -> 0 | K13: =SUM(I13/J13) -> #DIV/0! | M13: 11 | N13: Golay Daniel | O13: 2134 | P13: 12 | Q13: 177.83
A14: 12 | B14: Grosrey Krystel | C14: 1003 | D14: 6 | E14: 167.17 | G14: 12 | H14: Grosrey Krystel | I14: =SUM(O14-C14) -> 0 | J14: =SUM(P14-D14) -> 0 | K14: =SUM(I14/J14) -> #DIV/0! | M14: 12 | N14: Grosrey Krystel | O14: 1003 | P14: 6 | Q14: 167.17
... A30: 28 | B30: Visalli Giuseppe | C30: 2256 | D30: 12 | E30: 188 | G30: 28 | H30: Visalli Giuseppe | I30: =SUM(O30-C30) -> 0 | J30: =SUM(P30-D30) -> 0 | K30: =SUM(I30/J30) -> #DIV/0! | M30: 28 | N30: Visalli Giuseppe | O30: 2256 | P30: 12 | Q30: 188
A31: 29 | G31: 29 | I31: =SUM(O31-C31) -> 0 | J31: =SUM(P31-D31) -> 0 | K31: =SUM(I31/J31) -> #DIV/0! | M31: 29
A32: 30 | G32: 30 | I32: =SUM(O32-C32) -> 0 | J32: =SUM(P32-D32) -> 0 | K32: =SUM(I32/J32) -> #DIV/0! | M32: 30
A33: 31 | G33: 31 | I33: =SUM(O33-C33) -> 0 | J33: =SUM(P33-D33) -> 0 | K33: =SUM(I33/J33) -> #DIV/0! | M33: 31
A34: 32 | G34: 32 | I34: =SUM(O34-C34) -> 0 | J34: =SUM(P34-D34) -> 0 | K34: =SUM(I34/J34) -> #DIV/0! | M34: 32
A35: 33 | G35: 33 | I35: =SUM(O35-C35) -> 0 | J35: =SUM(P35-D35) -> 0 | K35: =SUM(I35/J35) -> #DIV/0! | M35: 33
A36: 34 | G36: 34 | I36: =SUM(O36-C36) -> 0 | J36: =SUM(P36-D36) -> 0 | K36: =SUM(I36/J36) -> #DIV/0! | M36: 34
A37: 35 | G37: 35 | I37: =SUM(O37-C37) -> 0 | J37: =SUM(P37-D37) -> 0 | K37: =SUM(I37/J37) -> #DIV/0! | M37: 35
A38: 36 | G38: 36 | I38: =SUM(O38-C38) -> 0 | J38: =SUM(P38-D38) -> 0 | K38: =SUM(I38/J38) -> #DIV/0! | M38: 36
A39: 37 | G39: 37 | I39: =SUM(O39-C39) -> 0 | J39: =SUM(P39-D39) -> 0 | K39: =SUM(I39/J39) -> #DIV/0! | M39: 37
A40: 38 | G40: 38 | I40: =SUM(O40-C40) -> 0 | J40: =SUM(P40-D40) -> 0 | K40: =SUM(I40/J40) -> #DIV/0! | M40: 38
C42: =SUM(C3:C41) -> 49996 | D42: =SUM(D3:D41) -> 288 | E42: =SUM(C42/D42) -> 173.59722 | I42: =SUM(I3:I40) -> 0 | J42: =SUM(J3:J40) -> 0 | K42: =SUM(I42/J42) -> #DIV/0! | O42: =SUM(O3:O41) -> 49996 | P42: =SUM(P3:P41) -> 288 | Q42: =SUM(O42/P42) -> 173.59722

Sheet Comp Extèrieur
A1: No licences | B1: Nom | C1: QA | D1: Parties | E1: Moy.H | F1: Moy.

Sheet Handicap
C1: Hommes | D1: Femmes
A2: 106 | B2: 60 | C2: HC | D2: DB
A3: 107 | B3: 60 | C3: HC | D3: DB
A4: 108 | B4: 60 | C4: HC | D4: DB
A5: 109 | B5: 60 | C5: HC | D5: DB
A6: 110 | B6: 60 | C6: HC | D6: DB
A7: 111 | B7: 60 | C7: HC | D7: DB
A8: 112 | B8: 60 | C8: HC | D8: DB
A9: 113 | B9: 60 | C9: HC | D9: DB
A10: 114 | B10: 60 | C10: HC | D10: DB
A11: 115 | B11: 60 | C11: HC | D11: DB
A12: 116 | B12: 60 | C12: HC | D12: DB
A13: 117 | B13: 60 | C13: HC | D13: DB
... A106: 210 | B106: 0 | C106: HA | D106: DA

Sheet 24.09.2020
B1: Ligue inter au 24.09.2020 | G1: Ligue SGB au 24.09.2020
A2: Pos. | B2: Nom | C2: QA | D2: Parties | E2: Moy. | G2: Pos. | H2: Nom | I2: QA | J2: Parties | K2: Moy.
A3: 1 | B3: Aries Claudia | C3: 1443 | D3: 9 | E3: 160.33 | G3: 1 | H3: Aliten Bartolome | I3: 1512 | J3: 8 | K3: 189 | M3: Aliten Bartolome | N3: 2945 | O3: 16 | P3: 184.06 | R3: =SUM(N3-I3) -> 1433 | S3: =SUM(O3-J3) -> 8
A4: 2 | B4: Blacas David | C4: 1080 | D4: 6 | E4: 180 | G4: 2 | H4: Aries Claudia | I4: 1320 | J4: 8 | K4: 165 | M4: Aries Claudia | N4: 1320 | O4: 8 | P4: 165 | R4: =SUM(N4-I4) -> 0 | S4: =SUM(O4-J4) -> 0
A5: 3 | B5: Bourgeois Henri | C5: 1648 | D5: 9 | E5: 183.11 | G5: 3 | H5: Bourgeois Henri | I5: 606 | J5: 4 | K5: 151.5 | M5: Bourgeois Henri | N5: 1963 | O5: 12 | P5: 163.58 | R5: =SUM(N5-I5) -> 1357 | S5: =SUM(O5-J5) -> 8
A6: 4 | B6: Bravo Mario | C6: 1175 | D6: 6 | E6: 195.83 | G6: 4 | H6: Bravo Mario | I6: 1483 | J6: 8 | K6: 185.38 | M6: Bravo Mario | N6: 2373 | O6: 12 | P6: 197.75 | R6: =SUM(N6-I6) -> 890 | S6: =SUM(O6-J6) -> 4
A7: 5 | B7: Bull Oliver | C7: 1009 | D7: 6 | E7: 168.17 | G7: 5 | H7: Carolino Romulo | I7: 1283 | J7: 8 | K7: 160.38 | M7: Carolino Romulo | N7: 2377 | O7: 16 | P7: 148.56 | R7: =SUM(N7-I7) -> 1094 | S7: =SUM(O7-J7) -> 8
A8: 6 | B8: Caldi Jean-Marc | C8: 985 | D8: 6 | E8: 164.17 | G8: 6 | H8: Chavaz Didier | I8: 1407 | J8: 8 | K8: 175.88 | M8: Chavaz Didier | N8: 2293 | O8: 12 | P8: 191.08 | R8: =SUM(N8-I8) -> 886 | S8: =SUM(O8-J8) -> 4
A9: 7 | B9: Carolino Romulo | C9: 1354 | D9: 9 | E9: 150.44 | G9: 7 | H9: Corbo Pierre | I9: 1413 | J9: 8 | K9: 176.63 | M9: Corbo Pierre | N9: 2802 | O9: 16 | P9: 175.13 | R9: =SUM(N9-I9) -> 1389 | S9: =SUM(O9-J9) -> 8
A10: 8 | B10: Champagne Marc | C10: 1047 | D10: 6 | E10: 174.5 | G10: 8 | M10: Da Silva Mario | N10: 735 | O10: 4 | P10: 183.75 | R10: =SUM(N10-I10) -> 735 | S10: =SUM(O10-J10) -> 4
A11: 9 | B11: Chappuis Bernard | C11: 1266 | D11: 9 | E11: 140.67 | G11: 9 | H11: Diaz Lopez José Manuel | I11: 682 | J11: 4 | K11: 170.5 | M11: Diaz Lopez José Manuel | N11: 1366 | O11: 8 | P11: 170.75 | R11: =SUM(N11-I11) -> 684 | S11: =SUM(O11-J11) -> 4
A12: 10 | B12: Company Joëlle | C12: 1489 | D12: 9 | E12: 165.44 | G12: 10 | M12: Faller Noraida | N12: 633 | O12: 4 | P12: 158.25 | R12: =SUM(N12-I12) -> 633 | S12: =SUM(O12-J12) -> 4
A13: 11 | B13: Corbo Pierre | C13: 1803 | D13: 9 | E13: 200.33 | G13: 11 | M13: Favre Jean-Marie | N13: 592 | O13: 4 | P13: 148 | R13: =SUM(N13-I13) -> 592 | S13: =SUM(O13-J13) -> 4
A14: 12 | B14: Corminboeuf Pascal | C14: 1450 | D14: 9 | E14: 161.11 | G14: 12 | H14: Flores Alfredo | I14: 1170 | J14: 8 | K14: 146.25 | M14: Flores Alfredo | N14: 2305 | O14: 16 | P14: 144.06 | R14: =SUM(N14-I14) -> 1135 | S14: =SUM(O14-J14) -> 8
A15: 13 | B15: Da Silva Mario | C15: 527 | D15: 3 | E15: 175.67 | G15: 13 | H15: Gabriel Eric | I15: 838 | J15: 4 | K15: 209.5 | M15: Gabriel Eric | N15: 1675 | O15: 8 | P15: 209.38 | R15: =SUM(N15-I15) -> 837 | S15: =SUM(O15-J15) -> 4
A16: 14 | B16: Decarli André | C16: 902 | D16: 6 | E16: 150.33 | G16: 14 | H16: Giordano Pasquale | I16: 555 | J16: 4 | K16: 138.75 | M16: Giordano Pasquale | N16: 1142 | O16: 8 | P16: 142.75 | R16: =SUM(N16-I16) -> 587 | S16: =SUM(O16-J16) -> 4
A17: 15 | B17: Dodah Moonesh | C17: 474 | D17: 3 | E17: 158 | G17: 15 | H17: Golay Daniel | I17: 1506 | J17: 8 | K17: 188.25 | M17: Golay Daniel | N17: 2956 | O17: 16 | P17: 184.75 | R17: =SUM(N17-I17) -> 1450 | S17: =SUM(O17-J17) -> 8
A18: 16 | B18: Favre Jean-Marie | C18: 463 | D18: 3 | E18: 154.33 | G18: 16 | H18: Grosrey Krystel | I18: 1191 | J18: 8 | K18: 148.88 | M18: Grosrey Krystel | N18: 2542 | O18: 16 | P18: 158.88 | R18: =SUM(N18-I18) -> 1351 | S18: =SUM(O18-J18) -> 8
A19: 17 | B19: Gabriel Eric | C19: 1023 | D19: 6 | E19: 170.5 | G19: 17 | H19: Groux Gilbert | I19: 1247 | J19: 8 | K19: 155.88 | M19: Groux Gilbert | N19: 2478 | O19: 16 | P19: 154.88 | R19: =SUM(N19-I19) -> 1231 | S19: =SUM(O19-J19) -> 8
A20: 18 | B20: Genillard Ralph-Yves | C20: 1034 | D20: 6 | E20: 172.33 | G20: 18 | H20: Guerraz Céline | I20: 681 | J20: 4 | K20: 170.25 | M20: Guerraz Céline | N20: 681 | O20: 4 | P20: 170.25 | R20: =SUM(N20-I20) -> 0 | S20: =SUM(O20-J20) -> 0
A21: 19 | B21: Golay Daniel | C21: 1746 | D21: 9 | E21: 194 | G21: 19 | H21: Guyot Jacques | I21: 811 | J21: 4 | K21: 202.75 | M21: Guyot Jacques | N21: 811 | O21: 4 | P21: 202.75 | R21: =SUM(N21-I21) -> 0 | S21: =SUM(O21-J21) -> 0
A22: 20 | B22: Gomez Domingo | C22: 1047 | D22: 6 | E22: 174.5 | G22: 20 | H22: Hubert Isabelle | I22: 556 | J22: 4 | K22: 139 | M22: Hubert Isabelle | N22: 1104 | O22: 8 | P22: 138 | R22: =SUM(N22-I22) -> 548 | S22: =SUM(O22-J22) -> 4
A23: 21 | B23: Guyot Jacques | C23: 1720 | D23: 9 | E23: 191.11 | G23: 21 | H23: Louvrier Ivana | I23: 1151 | J23: 8 | K23: 143.88 | M23: Louvrier Ivana | N23: 2398 | O23: 16 | P23: 149.88 | R23: =SUM(N23-I23) -> 1247 | S23: =SUM(O23-J23) -> 8
B24: Hubert Isabelle | G24: 22 | H24: Manco Anthony | I24: 792 | J24: 4 | K24: 198 | M24: Manco Anthony | N24: 792 | O24: 4 | P24: 198 | R24: =SUM(N24-I24) -> 0 | S24: =SUM(O24-J24) -> 0
A25: 22 | B25: Hutzli Christian | C25: 524 | D25: 3 | E25: 174.67 | G25: 23 | H25: Mancuso Angelo | I25: 600 | J25: 4 | K25: 150 | M25: Mancuso Angelo | N25: 1682 | O25: 12 | P25: 140.17 | R25: =SUM(N25-I25) -> 1082 | S25: =SUM(O25-J25) -> 8
A26: 23 | B26: Hutzli Philippe | C26: 1451 | D26: 9 | E26: 161.22 | G26: 24 | H26: Martin José | I26: 837 | J26: 4 | K26: 209.25 | M26: Martin José | N26: 1620 | O26: 8 | P26: 202.5 | R26: =SUM(N26-I26) -> 783 | S26: =SUM(O26-J26) -> 4
A27: 24 | B27: Karakash Iris | C27: 570 | D27: 3 | E27: 190 | G27: 25 | H27: Martinez Mary-Claude | I27: 1249 | J27: 8 | K27: 156.13 | M27: Martinez Mary-Claude | N27: 2564 | O27: 16 | P27: 160.25 | R27: =SUM(N27-I27) -> 1315 | S27: =SUM(O27-J27) -> 8
A28: 25 | B28: Karrer Jean | C28: 913 | D28: 6 | E28: 152.17 | G28: 26 | M28: Morales Serrano Eduardo | N28: 776 | O28: 4 | P28: 194 | R28: =SUM(N28-I28) -> 776 | S28: =SUM(O28-J28) -> 4
A29: 26 | B29: Louvrier Ivana | C29: 911 | D29: 6 | E29: 151.83 | G29: 27 | H29: Moser René | I29: 1262 | J29: 8 | K29: 157.75 | M29: Moser René | N29: 1262 | O29: 8 | P29: 157.75 | R29: =SUM(N29-I29) -> 0 | S29: =SUM(O29-J29) -> 0
A30: 27 | B30: Louvrier Philippe | C30: 1076 | D30: 6 | E30: 179.33 | G30: 28 | H30: Nicole Roger | I30: 623 | J30: 4 | K30: 155.75 | M30: Nicole Roger | N30: 1782 | O30: 12 | P30: 148.5 | R30: =SUM(N30-I30) -> 1159 | S30: =SUM(O30-J30) -> 8
A31: 28 | B31: Manco Anthony | C31: 472 | D31: 3 | E31: 157.33 | G31: 29 | H31: Paras Marife | I31: 1193 | J31: 8 | K31: 149.13 | M31: Paras Marife | N31: 1750 | O31: 12 | P31: 145.83 | R31: =SUM(N31-I31) -> 557 | S31: =SUM(O31-J31) -> 4
A32: 29 | B32: Manco Daniel | C32: 469 | D32: 3 | E32: 156.33 | G32: 30 | M32: Perito Pascal | N32: 705 | O32: 4 | P32: 176.25 | R32: =SUM(N32-I32) -> 705 | S32: =SUM(O32-J32) -> 4
A33: 30 | B33: Menoud François | C33: 1537 | D33: 9 | E33: 170.78 | G33: 31 | M33: Roagna Gilles-Eric | N33: 649 | O33: 4 | P33: 162.25 | R33: =SUM(N33-I33) -> 649 | S33: =SUM(O33-J33) -> 4
A34: 31 | B34: Moser Roberto | C34: 465 | D34: 3 | E34: 155 | G34: 32 | M34: Rosa Pedro | N34: 689 | O34: 4 | P34: 172.25 | R34: =SUM(N34-I34) -> 689 | S34: =SUM(O34-J34) -> 4
A35: 32 | H35: Rosset Franck | I35: 734 | J35: 4 | K35: 183.5 | M35: Rosset Franck | N35: 1540 | O35: 8 | P35: 192.5 | R35: =SUM(N35-I35) -> 806 | S35: =SUM(O35-J35) -> 4
A36: 33 | B36: Nicole Roger | C36: 1162 | D36: 6 | E36: 193.67 | H36: Serrano Ronaldo | I36: 548 | J36: 4 | K36: 137 | M36: Serrano Ronaldo | N36: 1068 | O36: 8 | P36: 133.5 | R36: =SUM(N36-I36) -> 520 | S36: =SUM(O36-J36) -> 4
A37: 34 | B37: Pellein Stéphane | C37: 1663 | D37: 9 | E37: 184.78 | H37: Stutz René | I37: 1537 | J37: 8 | K37: 192.13 | M37: Stutz René | N37: 2903 | O37: 16 | P37: 181.44 | R37: =SUM(N37-I37) -> 1366 | S37: =SUM(O37-J37) -> 8
A38: 35 | B38: Perito Pascal | C38: 1548 | D38: 9 | E38: 172 | H38: Toffel Gilles | I38: 679 | J38: 4 | K38: 169.75 | M38: Toffel Gilles | N38: 2273 | O38: 12 | P38: 189.42 | R38: =SUM(N38-I38) -> 1594 | S38: =SUM(O38-J38) -> 8
A39: 36 | B39: Regenass Cédric | C39: 1592 | D39: 9 | E39: 176.89 | H39: Torche Louis | I39: 810 | J39: 4 | K39: 202.5 | M39: Torche Louis | N39: 810 | O39: 4 | P39: 202.5 | R39: =SUM(N39-I39) -> 0 | S39: =SUM(O39-J39) -> 0
A40: 37 | B40: Roagna Gilles-Eric | C40: 482 | D40: 3 | E40: 160.67 | H40: Vergère Pascal | I40: 708 | J40: 4 | K40: 177 | M40: Vergère Pascal | N40: 2208 | O40: 12 | P40: 184 | R40: =SUM(N40-I40) -> 1500 | S40: =SUM(O40-J40) -> 8
A41: 38 | B41: Ronchi Jacques | C41: 1052 | D41: 6 | E41: 175.33 | H41: Vergère Patricia | I41: 1212 | J41: 8 | K41: 151.5 | M41: Vergère Patricia | N41: 1851 | O41: 12 | P41: 154.25 | R41: =SUM(N41-I41) -> 639 | S41: =SUM(O41-J41) -> 4
A42: 39 | B42: Rosa Pedro | C42: 951 | D42: 6 | E42: 158.5
A43: 40 | B43: Rosset Franck | C43: 1448 | D43: 9 | E43: 160.89
A44: 41 | B44: Seydoux Pascal | C44: 1622 | D44: 9 | E44: 180.22
A45: 42 | B45: Stutz René | C45: 1652 | D45: 9 | E45: 183.56
A46: 43 | B46: Terrettaz Janique | C46: 1001 | D46: 6 | E46: 166.83
A47: 44 | B47: Toffel Gilles | C47: 1050 | D47: 6 | E47: 175
A48: 45 | B48: Visalli Giuseppe | C48: 1573 | D48: 9 | E48: 174.78
A49: 46 | B49: Wegmuller Marcel | C49: 396 | D49: 3 | E49: 132

Sheet 30.09.2020
B1: Ligue inter au 30.09.2020 | G1: Ligue SGB au 30.09.2020 | M1: Solitaire au 30.09.2020
A2: Pos. | B2: Nom | C2: QA | D2: Parties | E2: Moy. | G2: Pos. | H2: Nom | I2: QA | J2: Parties | K2: Moy. | M2: Pos. | N2: Nom | O2: QA | P2: Parties | Q2: Moy.
A3: 1 | B3: Aries Claudia | C3: 1443 | D3: 9 | E3: 160.33 | G3: 1 | H3: Aliten Bartolome | I3: 2945 | J3: 16 | K3: 184.06 | M3: 1 | N3: Bourgeois Henri | O3: 989 | P3: 6 | Q3: 164.83
A4: 2 | B4: Blacas David | C4: 1080 | D4: 6 | E4: 180 | G4: 2 | H4: Aries Claudia | I4: 1320 | J4: 8 | K4: 165 | M4: 2 | N4: Chavaz Didier | O4: 1169 | P4: 6 | Q4: 194.83
A5: 3 | B5: Bourgeois Henri | C5: 2125 | D5: 12 | E5: 177.08 | G5: 3 | H5: Bourgeois Henri | I5: 1963 | J5: 12 | K5: 163.58 | M5: 3 | N5: Company Joëlle | O5: 1024 | P5: 6 | Q5: 170.67
A6: 4 | B6: Bravo Mario | C6: 1730 | D6: 9 | E6: 192.22 | G6: 4 | H6: Bravo Mario | I6: 2373 | J6: 12 | K6: 197.75 | M6: 4 | N6: Company Lucas | O6: 1080 | P6: 6 | Q6: 180
A7: 5 | B7: Bull Oliver | C7: 1009 | D7: 6 | E7: 168.17 | G7: 5 | H7: Carolino Romulo | I7: 2377 | J7: 16 | K7: 148.56 | M7: 5 | N7: Corbo Pierre | O7: 1028 | P7: 6 | Q7: 171.33
A8: 6 | B8: Caldi Jean-Marc | C8: 1538 | D8: 9 | E8: 170.89 | G8: 6 | H8: Chavaz Didier | I8: 2293 | J8: 12 | K8: 191.08 | M8: 6 | N8: D'Apice Vincenzo | O8: 1024 | P8: 6 | Q8: 170.67
A9: 7 | B9: Carolino Romulo | C9: 1884 | D9: 12 | E9: 157 | G9: 7 | H9: Corbo Pierre | I9: 2802 | J9: 16 | K9: 175.13 | M9: 7 | N9: Faller Noraida | O9: 1027 | P9: 6 | Q9: 171.17
A10: 8 | B10: Champagne Marc | C10: 1557 | D10: 9 | E10: 173 | G10: 8 | H10: Da Silva Mario | I10: 735 | J10: 4 | K10: 183.75 | M10: 8 | N10: Gabriel Eric | O10: 1154 | P10: 6 | Q10: 192.33
A11: 9 | B11: Chappuis Bernard | C11: 1765 | D11: 12 | E11: 147.08 | G11: 9 | H11: Diaz Lopez José Manuel | I11: 1366 | J11: 8 | K11: 170.75 | M11: 9 | N11: Golay Daniel | O11: 1106 | P11: 6 | Q11: 184.33
A12: 10 | B12: Company Joëlle | C12: 1991 | D12: 12 | E12: 165.92 | G12: 10 | H12: Faller Noraida | I12: 633 | J12: 4 | K12: 158.25 | M12: 10 | N12: Grosrey Krystel | O12: 1003 | P12: 6 | Q12: 167.17
A13: 11 | B13: Corbo Pierre | C13: 2418 | D13: 12 | E13: 201.5 | G13: 11 | H13: Favre Jean-Marie | I13: 592 | J13: 4 | K13: 148 | M13: 11 | N13: Louvrier Ivana | O13: 967 | P13: 6 | Q13: 161.17
A14: 12 | B14: Corminboeuf Pascal | C14: 1450 | D14: 9 | E14: 161.11 | G14: 12 | H14: Flores Alfredo | I14: 2305 | J14: 16 | K14: 144.06 | M14: 12 | N14: Louvrier Philippe | O14: 1044 | P14: 6 | Q14: 174
... A26: 24 | B26: Hutzli Philippe | C26: 1947 | D26: 12 | E26: 162.25 | G26: 24 | H26: Martin José | I26: 1620 | J26: 8 | K26: 202.5 | M26: 24 | N26: Visalli Giuseppe | O26: 1091 | P26: 6 | Q26: 181.83
A27: 25 | B27: Karakash Iris | C27: 1128 | D27: 6 | E27: 188 | G27: 25 | H27: Martinez Mary-Claude | I27: 2564 | J27: 16 | K27: 160.25
A28: 26 | B28: Karrer Jean | C28: 913 | D28: 6 | E28: 152.17 | G28: 26 | H28: Morales Serrano Eduardo | I28: 776 | J28: 4 | K28: 194
A29: 27 | B29: Louvrier Ivana | C29: 1426 | D29: 9 | E29: 158.44 | G29: 27 | H29: Moser René | I29: 1262 | J29: 8 | K29: 157.75
A30: 28 | B30: Louvrier Philippe | C30: 1076 | D30: 6 | E30: 179.33 | G30: 28 | H30: Nicole Roger | I30: 1782 | J30: 12 | K30: 148.5
A31: 29 | B31: Manco Anthony | C31: 1047 | D31: 6 | E31: 174.5 | G31: 29 | H31: Paras Marife | I31: 1750 | J31: 12 | K31: 145.83
A32: 30 | B32: Manco Daniel | C32: 1055 | D32: 6 | E32: 175.83 | G32: 30 | H32: Perito Pascal | I32: 705 | J32: 4 | K32: 176.25
A33: 31 | B33: Menoud François | C33: 2054 | D33: 12 | E33: 171.17 | G33: 31 | H33: Roagna Gilles-Eric | I33: 649 | J33: 4 | K33: 162.25
A34: 32 | B34: Moser Roberto | C34: 1296 | D34: 9 | E34: 144 | G34: 32 | H34: Rosa Pedro | I34: 689 | J34: 4 | K34: 172.25
A35: 33 | B35: Musa Jesper | C35: 452 | D35: 3 | E35: 150.67 | G35: 33 | H35: Rosset Franck | I35: 1540 | J35: 8 | K35: 192.5
A36: 34 | B36: Nicole Roger | C36: 1162 | D36: 6 | E36: 193.67 | G36: 34 | H36: Serrano Ronaldo | I36: 1068 | J36: 8 | K36: 133.5
A37: 35 | B37: Pellein Stéphane | C37: 2275 | D37: 12 | E37: 189.58 | G37: 35 | H37: Stutz René | I37: 2903 | J37: 16 | K37: 181.44
A38: 36 | B38: Perito Pascal | C38: 2013 | D38: 12 | E38: 167.75 | G38: 36 | H38: Toffel Gilles | I38: 2273 | J38: 12 | K38: 189.42
... A41: 39 | B41: Ronchi Jacques | C41: 1560 | D41: 9 | E41: 173.33 | G41: 39 | H41: Vergère Patricia | I41: 1851 | J41: 12 | K41: 154.25
A42: 40 | B42: Rosa Pedro | C42: 951 | D42: 6 | E42: 158.5
A43: 41 | B43: Rosset Franck | C43: 1927 | D43: 12 | E43: 160.58
A44: 42 | B44: Seydoux Pascal | C44: 2232 | D44: 12 | E44: 186
A45: 43 | B45: Stutz René | C45: 2190 | D45: 12 | E45: 182.5
A46: 44 | B46: Terrettaz Janique | C46: 1469 | D46: 9 | E46: 163.22
A47: 45 | B47: Toffel Gilles | C47: 1660 | D47: 9 | E47: 184.44
A48: 46 | B48: Visalli Giuseppe | C48: 2113 | D48: 12 | E48: 176.08
A49: 47 | B49: Wegmuller Marcel | C49: 799 | D49: 6 | E49: 133.17

Sheet 30.12.2020
B1: Ligue inter au 30.12.2020 | H1: Ligue inter au 31.03.2021 | P1: Ligue SGB au 30.12.2020 | V1: Ligue SGB au 30.09.2020 | AE1: Solitaire au 30.12.2020 | AK1: Solitaire au 31.03.2021
A2: Pos. | B2: Nom | C2: QA | D2: Parties | E2: Moy. | G2: Pos. | H2: Nom | I2: QA | J2: Parties | K2: Moy. | L2: QA | M2: Parties | N2: Moy. | P2: Pos. | Q2: Nom | R2: QA | S2: Parties | T2: Moy. | V2: Pos. | W2: Nom | X2: QA | Y2: Parties | Z2: Moy. | AE2: Pos. | AF2: Nom | AG2: QA | AH2: Parties | AI2: Moy. | AK2: Pos. | AL2: Nom | AM2: QA | AN2: Parties | AO2: Moy.
A3: 1 | B3: Aliten Bartolome | C3: 588 | D3: 3 | E3: 196 | H3: Aliten Bartolome | I3: 588 | J3: 3 | K3: 196 | L3: =SUM(C3-I3) -> 0 | M3: =SUM(D3-J3) -> 0 | N3: =SUM(L3/M3) -> #DIV/0! | P3: 1 | Q3: Aliten Bartolome | R3: 4440 | S3: 24 | T3: 185 | V3: 1 | W3: Aliten Bartolome | X3: 4440 | Y3: 24 | Z3: 185 | AA3: =SUM(R3-X3) -> 0 | AB3: =SUM(S3-Y3) -> 0 | AC3: =SUM(AA3/AB3) -> #DIV/0! | AE3: 1 | AF3: Bourgeois Henri | AG3: 1999 | AH3: 12 | AI3: 166.58 | AK3: 1 | AL3: Bourgeois Henri | AM3: 1999 | AN3: 12 | AO3: 166.58 | AP3: =SUM(AG3-AM3) -> 0 | AQ3: =SUM(AH3-AN3) -> 0 | AR3: =SUM(AP3/AQ3) -> #DIV/0!
A4: 2 | B4: Aries Claudia | C4: 2320 | D4: 15 | E4: 154.67 | G4: 1 | H4: Aries Claudia | I4: 2320 | J4: 15 | K4: 154.67 | L4: =SUM(C4-I4) -> 0 | M4: =SUM(D4-J4) -> 0 | N4: =SUM(L4/M4) -> #DIV/0! | P4: 2 | Q4: Aries Claudia | R4: 2005 | S4: 12 | T4: 167.08 | V4: 2 | W4: Aries Claudia | X4: 2005 | Y4: 12 | Z4: 167.08 | AA4: =SUM(R4-X4) -> 0 | AB4: =SUM(S4-Y4) -> 0 | AC4: =SUM(AA4/AB4) -> #DIV/0! | AE4: 2 | AF4: Chavaz Didier | AG4: 2247 | AH4: 12 | AI4: 187.25 | AK4: 2 | AL4: Chavaz Didier | AM4: 2247 | AN4: 12 | AO4: 187.25 | AP4: =SUM(AG4-AM4) -> 0 | AQ4: =SUM(AH4-AN4) -> 0 | AR4: =SUM(AP4/AQ4) -> #DIV/0!
A5: 3 | B5: Blacas David | C5: 1080 | D5: 6 | E5: 180 | G5: 2 | H5: Blacas David | I5: 1080 | J5: 6 | K5: 180 | L5: =SUM(C5-I5) -> 0 | M5: =SUM(D5-J5) -> 0 | N5: =SUM(L5/M5) -> #DIV/0! | P5: 3 | Q5: Bourgeois Henri | R5: 3367 | S5: 20 | T5: 168.35 | V5: 3 | W5: Bourgeois Henri | X5: 3367 | Y5: 20 | Z5: 168.35 | AA5: =SUM(R5-X5) -> 0 | AB5: =SUM(S5-Y5) -> 0 | AC5: =SUM(AA5/AB5) -> #DIV/0! | AE5: 3 | AF5: Company Joëlle | AG5: 2099 | AH5: 12 | AI5: 174.92 | AK5: 3 | AL5: Company Joëlle | AM5: 2099 | AN5: 12 | AO5: 174.92 | AP5: =SUM(AG5-AM5) -> 0 | AQ5: =SUM(AH5-AN5) -> 0 | AR5: =SUM(AP5/AQ5) -> #DIV/0!
A6: 4 | B6: Bourgeois Henri | C6: 3065 | D6: 18 | E6: 170.28 | G6: 3 | H6: Bourgeois Henri | I6: 3065 | J6: 18 | K6: 170.28 | L6: =SUM(C6-I6) -> 0 | M6: =SUM(D6-J6) -> 0 | N6: =SUM(L6/M6) -> #DIV/0! | P6: 4 | Q6: Bravo Mario | R6: 3181 | S6: 16 | T6: 198.81 | V6: 4 | W6: Bravo Mario | X6: 3181 | Y6: 16 | Z6: 198.81 | AA6: =SUM(R6-X6) -> 0 | AB6: =SUM(S6-Y6) -> 0 | AC6: =SUM(AA6/AB6) -> #DIV/0! | AE6: 4 | AF6: Company Lucas | AG6: 1080 | AH6: 6 | AI6: 180 | AK6: 4 | AL6: Company Lucas | AM6: 1080 | AN6: 6 | AO6: 180 | AP6: =SUM(AG6-AM6) -> 0 | AQ6: =SUM(AH6-AN6) -> 0 | AR6: =SUM(AP6/AQ6) -> #DIV/0!
A7: 5 | B7: Bravo Mario | C7: 2245 | D7: 12 | E7: 187.08 | G7: 4 | H7: Bravo Mario | I7: 2245 | J7: 12 | K7: 187.08 | L7: =SUM(C7-I7) -> 0 | M7: =SUM(D7-J7) -> 0 | N7: =SUM(L7/M7) -> #DIV/0! | P7: 5 | Q7: Carolino Romulo | R7: 3821 | S7: 24 | T7: 159.21 | V7: 5 | W7: Carolino Romulo | X7: 3821 | Y7: 24 | Z7: 159.21 | AA7: =SUM(R7-X7) -> 0 | AB7: =SUM(S7-Y7) -> 0 | AC7: =SUM(AA7/AB7) -> #DIV/0! | AE7: 5 | AF7: Corbo Pierre | AG7: 2133 | AH7: 12 | AI7: 177.75 | AK7: 5 | AL7: Corbo Pierre | AM7: 2133 | AN7: 12 | AO7: 177.75 | AP7: =SUM(AG7-AM7) -> 0 | AQ7: =SUM(AH7-AN7) -> 0 | AR7: =SUM(AP7/AQ7) -> #DIV/0!
A8: 6 | B8: Bull Oliver | C8: 1502 | D8: 9 | E8: 166.89 | G8: 5 | H8: Bull Oliver | I8: 1502 | J8: 9 | K8: 166.89 | L8: =SUM(C8-I8) -> 0 | M8: =SUM(D8-J8) -> 0 | N8: =SUM(L8/M8) -> #DIV/0! | P8: 6 | Q8: Chavaz Didier | R8: 2925 | S8: 16 | T8: 182.81 | V8: 6 | W8: Chavaz Didier | X8: 2925 | Y8: 16 | Z8: 182.81 | AA8: =SUM(R8-X8) -> 0 | AB8: =SUM(S8-Y8) -> 0 | AC8: =SUM(AA8/AB8) -> #DIV/0! | AE8: 6 | AF8: D'Apice Vincenzo | AG8: 2166 | AH8: 12 | AI8: 180.5 | AK8: 6 | AL8: D'Apice Vincenzo | AM8: 2166 | AN8: 12 | AO8: 180.5 | AP8: =SUM(AG8-AM8) -> 0 | AQ8: =SUM(AH8-AN8) -> 0 | AR8: =SUM(AP8/AQ8) -> #DIV/0!
A9: 7 | B9: Caldi Jean-Marc | C9: 2113 | D9: 12 | E9: 176.08 | G9: 6 | H9: Caldi Jean-Marc | I9: 2113 | J9: 12 | K9: 176.08 | L9: =SUM(C9-I9) -> 0 | M9: =SUM(D9-J9) -> 0 | N9: =SUM(L9/M9) -> #DIV/0! | P9: 7 | Q9: Corbo Pierre | R9: 4158 | S9: 24 | T9: 173.25 | V9: 7 | W9: Corbo Pierre | X9: 4158 | Y9: 24 | Z9: 173.25 | AA9: =SUM(R9-X9) -> 0 | AB9: =SUM(S9-Y9) -> 0 | AC9: =SUM(AA9/AB9) -> #DIV/0! | AE9: 7 | AF9: Dupenloup Franck | AG9: 1133 | AH9: 6 | AI9: 188.83 | AK9: 7 | AL9: Dupenloup Franck | AM9: 1133 | AN9: 6 | AO9: 188.83 | AP9: =SUM(AG9-AM9) -> 0 | AQ9: =SUM(AH9-AN9) -> 0 | AR9: =SUM(AP9/AQ9) -> #DIV/0!
A10: 8 | B10: Carolino Romulo | C10: 2910 | D10: 18 | E10: 161.67 | G10: 7 | H10: Carolino Romulo | I10: 2910 | J10: 18 | K10: 161.67 | L10: =SUM(C10-I10) -> 0 | M10: =SUM(D10-J10) -> 0 | N10: =SUM(L10/M10) -> #DIV/0! | P10: 8 | Q10: Da Silva Mario | R10: 735 | S10: 4 | T10: 183.75 | V10: 8 | W10: Da Silva Mario | X10: 735 | Y10: 4 | Z10: 183.75 | AA10: =SUM(R10-X10) -> 0 | AB10: =SUM(S10-Y10) -> 0 | AC10: =SUM(AA10/AB10) -> #DIV/0! | AE10: 8 | AF10: Faller Neza | AG10: 942 | AH10: 6 | AI10: 157 | AK10: 8 | AL10: Faller Neza | AM10: 942 | AN10: 6 | AO10: 157 | AP10: =SUM(AG10-AM10) -> 0 | AQ10: =SUM(AH10-AN10) -> 0 | AR10: =SUM(AP10/AQ10) -> #DIV/0!
A11: 9 | B11: Champagne Marc | C11: 2519 | D11: 15 | E11: 167.93 | G11: 8 | H11: Champagne Marc | I11: 2519 | J11: 15 | K11: 167.93 | L11: =SUM(C11-I11) -> 0 | M11: =SUM(D11-J11) -> 0 | N11: =SUM(L11/M11) -> #DIV/0! | P11: 9 | Q11: Diaz Lopez José Manuel | R11: 1979 | S11: 12 | T11: 164.92 | V11: 9 | W11: Diaz Lopez José Manuel | X11: 1979 | Y11: 12 | Z11: 164.92 | AA11: =SUM(R11-X11) -> 0 | AB11: =SUM(S11-Y11) -> 0 | AC11: =SUM(AA11/AB11) -> #DIV/0! | AE11: 9 | AF11: Faller Noraida | AG11: 2058 | AH11: 12 | AI11: 171.5 | AK11: 9 | AL11: Faller Noraida | AM11: 2058 | AN11: 12 | AO11: 171.5 | AP11: =SUM(AG11-AM11) -> 0 | AQ11: =SUM(AH11-AN11) -> 0 | AR11: =SUM(AP11/AQ11) -> #DIV/0!
A12: 10 | B12: Chappuis Bernard | C12: 2802 | D12: 18 | E12: 155.67 | G12: 9 | H12: Chappuis Bernard | I12: 2802 | J12: 18 | K12: 155.67 | L12: =SUM(C12-I12) -> 0 | M12: =SUM(D12-J12) -> 0 | N12: =SUM(L12/M12) -> #DIV/0! | P12: 10 | Q12: Faller Noraida | R12: 633 | S12: 4 | T12: 158.25 | V12: 10 | W12: Faller Noraida | X12: 633 | Y12: 4 | Z12: 158.25 | AA12: =SUM(R12-X12) -> 0 | AB12: =SUM(S12-Y12) -> 0 | AC12: =SUM(AA12/AB12) -> #DIV/0! | AE12: 10 | AF12: Gabriel Eric | AG12: 2203 | AH12: 12 | AI12: 183.58 | AK12: 10 | AL12: Gabriel Eric | AM12: 2203 | AN12: 12 | AO12: 183.58 | AP12: =SUM(AG12-AM12) -> 0 | AQ12: =SUM(AH12-AN12) -> 0 | AR12: =SUM(AP12/AQ12) -> #DIV/0!
A13: 11 | B13: Company Joëlle | C13: 3084 | D13: 18 | E13: 171.33 | G13: 10 | H13: Company Joëlle | I13: 3084 | J13: 18 | K13: 171.33 | L13: =SUM(C13-I13) -> 0 | M13: =SUM(D13-J13) -> 0 | N13: =SUM(L13/M13) -> #DIV/0! | P13: 11 | Q13: Favre Jean-Marie | R13: 1301 | S13: 8 | T13: 162.63 | V13: 11 | W13: Favre Jean-Marie | X13: 1301 | Y13: 8 | Z13: 162.63 | AA13: =SUM(R13-X13) -> 0 | AB13: =SUM(S13-Y13) -> 0 | AC13: =SUM(AA13/AB13) -> #DIV/0! | AE13: 11 | AF13: Golay Daniel | AG13: 2134 | AH13: 12 | AI13: 177.83 | AK13: 11 | AL13: Golay Daniel | AM13: 2134 | AN13: 12 | AO13: 177.83 | AP13: =SUM(AG13-AM13) -> 0 | AQ13: =SUM(AH13-AN13) -> 0 | AR13: =SUM(AP13/AQ13) -> #DIV/0!
A14: 12 | B14: Corbo Pierre | C14: 3471 | D14: 18 | E14: 192.83 | G14: 11 | H14: Corbo Pierre | I14: 3471 | J14: 18 | K14: 192.83 | L14: =SUM(C14-I14) -> 0 | M14: =SUM(D14-J14) -> 0 | N14: =SUM(L14/M14) -> #DIV/0! | P14: 12 | Q14: Flores Alfredo | R14: 3339 | S14: 24 | T14: 139.13 | V14: 12 | W14: Flores Alfredo | X14: 3339 | Y14: 24 | Z14: 139.13 | AA14: =SUM(R14-X14) -> 0 | AB14: =SUM(S14-Y14) -> 0 | AC14: =SUM(AA14/AB14) -> #DIV/0! | AE14: 12 | AF14: Grosrey Krystel | AG14: 1003 | AH14: 6 | AI14: 167.17 | AK14: 12 | AL14: Grosrey Krystel | AM14: 1003 | AN14: 6 | AO14: 167.17 | AP14: =SUM(AG14-AM14) -> 0 | AQ14: =SUM(AH14-AN14) -> 0 | AR14: =SUM(AP14/AQ14) -> #DIV/0!
A15: 13 | B15: Corminboeuf Pascal | C15: 2005 | D15: 12 | E15: 167.08 | G15: 12 | H15: Corminboeuf Pascal | I15: 2005 | J15: 12 | K15: 167.08 | L15: =SUM(C15-I15) -> 0 | M15: =SUM(D15-J15) -> 0 | N15: =SUM(L15/M15) -> #DIV/0! | P15: 13 | Q15: Gabriel Eric | R15: 3205 | S15: 16 | T15: 200.31 | V15: 13 | W15: Gabriel Eric | X15: 3205 | Y15: 16 | Z15: 200.31 | AA15: =SUM(R15-X15) -> 0 | AB15: =SUM(S15-Y15) -> 0 | AC15: =SUM(AA15/AB15) -> #DIV/0! | AE15: 13 | AF15: Hubert Isabelle | AG15: 892 | AH15: 6 | AI15: 148.67 | AK15: 13 | AL15: Hubert Isabelle | AM15: 892 | AN15: 6 | AO15: 148.67 | AP15: =SUM(AG15-AM15) -> 0 | AQ15: =SUM(AH15-AN15) -> 0 | AR15: =SUM(AP15/AQ15) -> #DIV/0!
... A29: 28 | B29: Louvrier Ivana | C29: 1970 | D29: 12 | E29: 164.17 | G29: 27 | H29: Louvrier Ivana | I29: 1970 | J29: 12 | K29: 164.17 | L29: =SUM(C29-I29) -> 0 | M29: =SUM(D29-J29) -> 0 | N29: =SUM(L29/M29) -> #DIV/0! | P29: 27 | Q29: Moser René | R29: 2535 | S29: 16 | T29: 158.44 | V29: 27 | W29: Moser René | X29: 2535 | Y29: 16 | Z29: 158.44 | AA29: =SUM(R29-X29) -> 0 | AB29: =SUM(S29-Y29) -> 0 | AC29: =SUM(AA29/AB29) -> #DIV/0! | AE29: 27 | AF29: Visalli Giuseppe | AG29: 2256 | AH29: 12 | AI29: 188 | AK29: 27 | AL29: Visalli Giuseppe | AM29: 2256 | AN29: 12 | AO29: 188 | AP29: =SUM(AG29-AM29) -> 0 | AQ29: =SUM(AH29-AN29) -> 0 | AR29: =SUM(AP29/AQ29) -> #DIV/0!
A30: 29 | B30: Louvrier Philippe | C30: 1537 | D30: 9 | E30: 170.78 | G30: 28 | H30: Louvrier Philippe | I30: 1537 | J30: 9 | K30: 170.78 | L30: =SUM(C30-I30) -> 0 | M30: =SUM(D30-J30) -> 0 | N30: =SUM(L30/M30) -> #DIV/0! | P30: 28 | Q30: Nicole Roger | R30: 2338 | S30: 16 | T30: 146.13 | V30: 28 | W30: Nicole Roger | X30: 2338 | Y30: 16 | Z30: 146.13 | AA30: =SUM(R30-X30) -> 0 | AB30: =SUM(S30-Y30) -> 0 | AC30: =SUM(AA30/AB30) -> #DIV/0!
A31: 30 | B31: Manco Anthony | C31: 2223 | D31: 12 | E31: 185.25 | G31: 29 | H31: Manco Anthony | I31: 2223 | J31: 12 | K31: 185.25 | L31: =SUM(C31-I31) -> 0 | M31: =SUM(D31-J31) -> 0 | N31: =SUM(L31/M31) -> #DIV/0! | P31: 29 | Q31: Paras Marife | R31: 2908 | S31: 20 | T31: 145.4 | V31: 29 | W31: Paras Marife | X31: 2908 | Y31: 20 | Z31: 145.4 | AA31: =SUM(R31-X31) -> 0 | AB31: =SUM(S31-Y31) -> 0 | AC31: =SUM(AA31/AB31) -> #DIV/0!
A32: 31 | B32: Manco Daniel | C32: 2147 | D32: 12 | E32: 178.92 | G32: 30 | H32: Manco Daniel | I32: 2147 | J32: 12 | K32: 178.92 | L32: =SUM(C32-I32) -> 0 | M32: =SUM(D32-J32) -> 0 | N32: =SUM(L32/M32) -> #DIV/0! | P32: 30 | Q32: Perito Pascal | R32: 705 | S32: 4 | T32: 176.25 | V32: 30 | W32: Perito Pascal | X32: 705 | Y32: 4 | Z32: 176.25 | AA32: =SUM(R32-X32) -> 0 | AB32: =SUM(S32-Y32) -> 0 | AC32: =SUM(AA32/AB32) -> #DIV/0!
A33: 32 | B33: Menoud François | C33: 2603 | D33: 15 | E33: 173.53 | G33: 31 | H33: Menoud François | I33: 2603 | J33: 15 | K33: 173.53 | L33: =SUM(C33-I33) -> 0 | M33: =SUM(D33-J33) -> 0 | N33: =SUM(L33/M33) -> #DIV/0! | P33: 31 | Q33: Roagna Gilles-Eric | R33: 649 | S33: 4 | T33: 162.25 | V33: 31 | W33: Roagna Gilles-Eric | X33: 649 | Y33: 4 | Z33: 162.25 | AA33: =SUM(R33-X33) -> 0 | AB33: =SUM(S33-Y33) -> 0 | AC33: =SUM(AA33/AB33) -> #DIV/0!
A34: 33 | B34: Moser Roberto | C34: 1747 | D34: 12 | E34: 145.58 | G34: 32 | H34: Moser Roberto | I34: 1747 | J34: 12 | K34: 145.58 | L34: =SUM(C34-I34) -> 0 | M34: =SUM(D34-J34) -> 0 | N34: =SUM(L34/M34) -> #DIV/0! | P34: 32 | Q34: Rosa Pedro | R34: 1335 | S34: 8 | T34: 166.88 | V34: 32 | W34: Rosa Pedro | X34: 1335 | Y34: 8 | Z34: 166.88 | AA34: =SUM(R34-X34) -> 0 | AB34: =SUM(S34-Y34) -> 0 | AC34: =SUM(AA34/AB34) -> #DIV/0!
A35: 34 | B35: Musa Jesper | C35: 924 | D35: 6 | E35: 154 | G35: 33 | H35: Musa Jesper | I35: 924 | J35: 6 | K35: 154 | L35: =SUM(C35-I35) -> 0 | M35: =SUM(D35-J35) -> 0 | N35: =SUM(L35/M35) -> #DIV/0! | P35: 33 | Q35: Rosset Franck | R35: 2994 | S35: 16 | T35: 187.13 | V35: 33 | W35: Rosset Franck | X35: 2994 | Y35: 16 | Z35: 187.13 | AA35: =SUM(R35-X35) -> 0 | AB35: =SUM(S35-Y35) -> 0 | AC35: =SUM(AA35/AB35) -> #DIV/0!
A36: 35 | B36: Nicole Roger | C36: 1601 | D36: 9 | E36: 177.89 | G36: 34 | H36: Nicole Roger | I36: 1601 | J36: 9 | K36: 177.89 | L36: =SUM(C36-I36) -> 0 | M36: =SUM(D36-J36) -> 0 | N36: =SUM(L36/M36) -> #DIV/0! | P36: 34 | Q36: Serrano Ronaldo | R36: 1068 | S36: 8 | T36: 133.5 | V36: 34 | W36: Serrano Ronaldo | X36: 1068 | Y36: 8 | Z36: 133.5 | AA36: =SUM(R36-X36) -> 0 | AB36: =SUM(S36-Y36) -> 0 | AC36: =SUM(AA36/AB36) -> #DIV/0!
A37: 36 | B37: Pellein Stéphane | C37: 3481 | D37: 18 | E37: 193.39 | G37: 35 | H37: Pellein Stéphane | I37: 3481 | J37: 18 | K37: 193.39 | L37: =SUM(C37-I37) -> 0 | M37: =SUM(D37-J37) -> 0 | N37: =SUM(L37/M37) -> #DIV/0! | P37: 35 | Q37: Stutz René | R37: 4271 | S37: 24 | T37: 177.96 | V37: 35 | W37: Stutz René | X37: 4271 | Y37: 24 | Z37: 177.96 | AA37: =SUM(R37-X37) -> 0 | AB37: =SUM(S37-Y37) -> 0 | AC37: =SUM(AA37/AB37) -> #DIV/0!
A38: 37 | B38: Perito Pascal | C38: 3152 | D38: 18 | E38: 175.11 | G38: 36 | H38: Perito Pascal | I38: 3152 | J38: 18 | K38: 175.11 | L38: =SUM(C38-I38) -> 0 | M38: =SUM(D38-J38) -> 0 | N38: =SUM(L38/M38) -> #DIV/0! | P38: 36 | Q38: Toffel Gilles | R38: 2958 | S38: 16 | T38: 184.88 | V38: 36 | W38: Toffel Gilles | X38: 2958 | Y38: 16 | Z38: 184.88 | AA38: =SUM(R38-X38) -> 0 | AB38: =SUM(S38-Y38) -> 0 | AC38: =SUM(AA38/AB38) -> #DIV/0!
A39: 39 | B39: Roagna Gilles-Eric | C39: 482 | D39: 3 | E39: 160.67 | G39: 38 | H39: Roagna Gilles-Eric | I39: 482 | J39: 3 | K39: 160.67 | L39: =SUM(C39-I39) -> 0 | M39: =SUM(D39-J39) -> 0 | N39: =SUM(L39/M39) -> #DIV/0! | P39: 37 | Q39: Torche Louis | R39: 810 | S39: 4 | T39: 202.5 | V39: 37 | W39: Torche Louis | X39: 810 | Y39: 4 | Z39: 202.5 | AA39: =SUM(R39-X39) -> 0 | AB39: =SUM(S39-Y39) -> 0 | AC39: =SUM(AA39/AB39) -> #DIV/0!
A40: 40 | B40: Ronchi Jacques | C40: 2533 | D40: 15 | E40: 168.87 | G40: 39 | H40: Ronchi Jacques | I40: 2533 | J40: 15 | K40: 168.87 | L40: =SUM(C40-I40) -> 0 | M40: =SUM(D40-J40) -> 0 | N40: =SUM(L40/M40) -> #DIV/0! | P40: 38 | Q40: Vergère Pascal | R40: 2871 | S40: 16 | T40: 179.44 | V40: 38 | W40: Vergère Pascal | X40: 2871 | Y40: 16 | Z40: 179.44 | AA40: =SUM(R40-X40) -> 0 | AB40: =SUM(S40-Y40) -> 0 | AC40: =SUM(AA40/AB40) -> #DIV/0!
A41: 41 | B41: Rosa Pedro | C41: 1408 | D41: 9 | E41: 156.44 | G41: 40 | H41: Rosa Pedro | I41: 1408 | J41: 9 | K41: 156.44 | L41: =SUM(C41-I41) -> 0 | M41: =SUM(D41-J41) -> 0 | N41: =SUM(L41/M41) -> #DIV/0! | P41: 39 | Q41: Vergère Patricia | R41: 2551 | S41: 16 | T41: 159.44 | V41: 39 | W41: Vergère Patricia | X41: 2551 | Y41: 16 | Z41: 159.44 | AA41: =SUM(R41-X41) -> 0 | AB41: =SUM(S41-Y41) -> 0 | AC41: =SUM(AA41/AB41) -> #DIV/0!
A42: 42 | B42: Rosset Franck | C42: 3034 | D42: 18 | E42: 168.56 | G42: 41 | H42: Rosset Franck | I42: 3034 | J42: 18 | K42: 168.56 | L42: =SUM(C42-I42) -> 0 | M42: =SUM(D42-J42) -> 0 | N42: =SUM(L42/M42) -> #DIV/0!
A43: 43 | B43: Seydoux Pascal | C43: 3371 | D43: 18 | E43: 187.28 | G43: 42 | H43: Seydoux Pascal | I43: 3371 | J43: 18 | K43: 187.28 | L43: =SUM(C43-I43) -> 0 | M43: =SUM(D43-J43) -> 0 | N43: =SUM(L43/M43) -> #DIV/0! | AA43: =SUM(AA3:AA42) -> 0 | AB43: =SUM(AB3:AB42) -> 0
A44: 44 | B44: Stutz René | C44: 2741 | D44: 15 | E44: 182.73 | G44: 43 | H44: Stutz René | I44: 2741 | J44: 15 | K44: 182.73 | L44: =SUM(C44-I44) -> 0 | M44: =SUM(D44-J44) -> 0 | N44: =SUM(L44/M44) -> #DIV/0!
A45: 45 | B45: Terrettaz Janique | C45: 1469 | D45: 9 | E45: 163.22 | G45: 44 | H45: Terrettaz Janique | I45: 1469 | J45: 9 | K45: 163.22 | L45: =SUM(C45-I45) -> 0 | M45: =SUM(D45-J45) -> 0 | N45: =SUM(L45/M45) -> #DIV/0!
A46: 46 | B46: Toffel Gilles | C46: 2638 | D46: 15 | E46: 175.87 | G46: 45 | H46: Toffel Gilles | I46: 2638 | J46: 15 | K46: 175.87 | L46: =SUM(C46-I46) -> 0 | M46: =SUM(D46-J46) -> 0 | N46: =SUM(L46/M46) -> #DIV/0!
A47: 47 | B47: Visalli Giuseppe | C47: 3174 | D47: 18 | E47: 176.33 | G47: 46 | H47: Visalli Giuseppe | I47: 3174 | J47: 18 | K47: 176.33 | L47: =SUM(C47-I47) -> 0 | M47: =SUM(D47-J47) -> 0 | N47: =SUM(L47/M47) -> #DIV/0!
A48: 48 | B48: Wegmuller Marcel | C48: 1743 | D48: 12 | E48: 145.25 | G48: 47 | H48: Wegmuller Marcel | I48: 1743 | J48: 12 | K48: 145.25 | L48: =SUM(C48-I48) -> 0 | M48: =SUM(D48-J48) -> 0 | N48: =SUM(L48/M48) -> #DIV/0!
